BEGIN:VCALENDAR
VERSION:2.0
PRODID:-//Flying Deer Nature Center - ECPv6.15.20//NONSGML v1.0//EN
CALSCALE:GREGORIAN
METHOD:PUBLISH
X-ORIGINAL-URL:https://flyingdeernaturecenter.org
X-WR-CALDESC:Events for Flying Deer Nature Center
REFRESH-INTERVAL;VALUE=DURATION:PT1H
X-Robots-Tag:noindex
X-PUBLISHED-TTL:PT1H
BEGIN:VTIMEZONE
TZID:America/New_York
BEGIN:DAYLIGHT
TZOFFSETFROM:-0500
TZOFFSETTO:-0400
TZNAME:EDT
DTSTART:20180311T070000
END:DAYLIGHT
BEGIN:STANDARD
TZOFFSETFROM:-0400
TZOFFSETTO:-0500
TZNAME:EST
DTSTART:20181104T060000
END:STANDARD
BEGIN:DAYLIGHT
TZOFFSETFROM:-0500
TZOFFSETTO:-0400
TZNAME:EDT
DTSTART:20190310T070000
END:DAYLIGHT
BEGIN:STANDARD
TZOFFSETFROM:-0400
TZOFFSETTO:-0500
TZNAME:EST
DTSTART:20191103T060000
END:STANDARD
BEGIN:DAYLIGHT
TZOFFSETFROM:-0500
TZOFFSETTO:-0400
TZNAME:EDT
DTSTART:20200308T070000
END:DAYLIGHT
BEGIN:STANDARD
TZOFFSETFROM:-0400
TZOFFSETTO:-0500
TZNAME:EST
DTSTART:20201101T060000
END:STANDARD
END:VTIMEZONE
BEGIN:VEVENT
DTSTART;TZID=America/New_York:20190601T163000
DTEND;TZID=America/New_York:20190601T173000
DTSTAMP:20260425T081533
CREATED:20190511T220323Z
LAST-MODIFIED:20190511T220739Z
UID:10000001-1559406600-1559410200@flyingdeernaturecenter.org
SUMMARY:Moon Tribe Info Meeting for Prospective Families
DESCRIPTION:
URL:https://flyingdeernaturecenter.org/event/moon-tribe-info-night-for-prospective-families/
LOCATION:New Lebanon\, 5 Abode Rd.\, New Lebanon\, NY\, 12125\, United States
CATEGORIES:Rites of Passage
END:VEVENT
END:VCALENDAR