BEGIN:VCALENDAR
VERSION:2.0
PRODID:-//Flying Deer Nature Center - ECPv6.15.20//NONSGML v1.0//EN
CALSCALE:GREGORIAN
METHOD:PUBLISH
X-WR-CALNAME:Flying Deer Nature Center
X-ORIGINAL-URL:https://flyingdeernaturecenter.org
X-WR-CALDESC:Events for Flying Deer Nature Center
REFRESH-INTERVAL;VALUE=DURATION:PT1H
X-Robots-Tag:noindex
X-PUBLISHED-TTL:PT1H
BEGIN:VTIMEZONE
TZID:America/New_York
BEGIN:DAYLIGHT
TZOFFSETFROM:-0500
TZOFFSETTO:-0400
TZNAME:EDT
DTSTART:20250309T070000
END:DAYLIGHT
BEGIN:STANDARD
TZOFFSETFROM:-0400
TZOFFSETTO:-0500
TZNAME:EST
DTSTART:20251102T060000
END:STANDARD
BEGIN:DAYLIGHT
TZOFFSETFROM:-0500
TZOFFSETTO:-0400
TZNAME:EDT
DTSTART:20260308T070000
END:DAYLIGHT
BEGIN:STANDARD
TZOFFSETFROM:-0400
TZOFFSETTO:-0500
TZNAME:EST
DTSTART:20261101T060000
END:STANDARD
BEGIN:DAYLIGHT
TZOFFSETFROM:-0500
TZOFFSETTO:-0400
TZNAME:EDT
DTSTART:20270314T070000
END:DAYLIGHT
BEGIN:STANDARD
TZOFFSETFROM:-0400
TZOFFSETTO:-0500
TZNAME:EST
DTSTART:20271107T060000
END:STANDARD
END:VTIMEZONE
BEGIN:VEVENT
DTSTART;TZID=America/New_York:20260430T090000
DTEND;TZID=America/New_York:20260430T150000
DTSTAMP:20260423T000638
CREATED:20250806T035453Z
LAST-MODIFIED:20250806T035453Z
UID:10003558-1777539600-1777561200@flyingdeernaturecenter.org
SUMMARY:FOREST Homeschool Program
DESCRIPTION:
URL:https://flyingdeernaturecenter.org/event/forest-homeschool-program-26/2026-04-30/
LOCATION:Daley Road\, 122 Daley Rd\, East Chatham\, 12060\, United States
CATEGORIES:Homeschool
END:VEVENT
BEGIN:VEVENT
DTSTART;VALUE=DATE:20260502
DTEND;VALUE=DATE:20260504
DTSTAMP:20260423T000638
CREATED:20250806T031835Z
LAST-MODIFIED:20250806T031835Z
UID:10003446-1777680000-1777852799@flyingdeernaturecenter.org
SUMMARY:Luna Moth: Mother-Daughter Day/Overnight
DESCRIPTION:
URL:https://flyingdeernaturecenter.org/event/luna-moth-mother-daughter-day-overnight-2/
LOCATION:Daley Road\, 122 Daley Rd\, East Chatham\, 12060\, United States
CATEGORIES:Rites of Passage
END:VEVENT
BEGIN:VEVENT
DTSTART;TZID=America/New_York:20260504T090000
DTEND;TZID=America/New_York:20260504T150000
DTSTAMP:20260423T000638
CREATED:20250806T034140Z
LAST-MODIFIED:20250806T034140Z
UID:10003475-1777885200-1777906800@flyingdeernaturecenter.org
SUMMARY:Wild Ways Teen Program
DESCRIPTION:
URL:https://flyingdeernaturecenter.org/event/wild-ways-teen-program-16/2026-05-04/
LOCATION:Daley Road\, 122 Daley Rd\, East Chatham\, 12060\, United States
CATEGORIES:Homeschool
END:VEVENT
BEGIN:VEVENT
DTSTART;TZID=America/New_York:20260505T090000
DTEND;TZID=America/New_York:20260505T150000
DTSTAMP:20260423T000638
CREATED:20250806T034751Z
LAST-MODIFIED:20250806T034751Z
UID:10003511-1777971600-1777993200@flyingdeernaturecenter.org
SUMMARY:Forest K in East Chatham
DESCRIPTION:
URL:https://flyingdeernaturecenter.org/event/forest-k-in-east-chatham-4/2026-05-05/
LOCATION:Daley Road\, 122 Daley Rd\, East Chatham\, 12060\, United States
CATEGORIES:Forest Kindergarten
END:VEVENT
BEGIN:VEVENT
DTSTART;TZID=America/New_York:20260505T090000
DTEND;TZID=America/New_York:20260505T150000
DTSTAMP:20260423T000638
CREATED:20251014T160212Z
LAST-MODIFIED:20251014T160212Z
UID:10003696-1777971600-1777993200@flyingdeernaturecenter.org
SUMMARY:Treetop
DESCRIPTION:
URL:https://flyingdeernaturecenter.org/event/treetop-27/
LOCATION:Daley Road\, 122 Daley Rd\, East Chatham\, 12060\, United States
CATEGORIES:Homeschool
END:VEVENT
BEGIN:VEVENT
DTSTART;TZID=America/New_York:20260506T090000
DTEND;TZID=America/New_York:20260506T150000
DTSTAMP:20260423T000638
CREATED:20250806T034943Z
LAST-MODIFIED:20250806T034943Z
UID:10003523-1778058000-1778079600@flyingdeernaturecenter.org
SUMMARY:Forest K in East Chatham
DESCRIPTION:
URL:https://flyingdeernaturecenter.org/event/forest-k-in-east-chatham-5/2026-05-06/
LOCATION:Daley Road\, 122 Daley Rd\, East Chatham\, 12060\, United States
CATEGORIES:Forest Kindergarten
END:VEVENT
BEGIN:VEVENT
DTSTART;TZID=America/New_York:20260506T090000
DTEND;TZID=America/New_York:20260506T150000
DTSTAMP:20260423T000638
CREATED:20250806T035308Z
LAST-MODIFIED:20250806T035308Z
UID:10003547-1778058000-1778079600@flyingdeernaturecenter.org
SUMMARY:FOREST Homeschool Program
DESCRIPTION:
URL:https://flyingdeernaturecenter.org/event/forest-homeschool-program-25/2026-05-06/
LOCATION:Daley Road\, 122 Daley Rd\, East Chatham\, 12060\, United States
CATEGORIES:Homeschool
END:VEVENT
BEGIN:VEVENT
DTSTART;TZID=America/New_York:20260507T090000
DTEND;TZID=America/New_York:20260507T150000
DTSTAMP:20260423T000638
CREATED:20250806T035109Z
LAST-MODIFIED:20250806T035109Z
UID:10003535-1778144400-1778166000@flyingdeernaturecenter.org
SUMMARY:Forest K in East Chatham
DESCRIPTION:
URL:https://flyingdeernaturecenter.org/event/forest-k-in-east-chatham-6/2026-05-07/
LOCATION:Daley Road\, 122 Daley Rd\, East Chatham\, 12060\, United States
CATEGORIES:Forest Kindergarten
END:VEVENT
BEGIN:VEVENT
DTSTART;TZID=America/New_York:20260507T090000
DTEND;TZID=America/New_York:20260507T150000
DTSTAMP:20260423T000638
CREATED:20250806T035453Z
LAST-MODIFIED:20250806T035453Z
UID:10003559-1778144400-1778166000@flyingdeernaturecenter.org
SUMMARY:FOREST Homeschool Program
DESCRIPTION:
URL:https://flyingdeernaturecenter.org/event/forest-homeschool-program-26/2026-05-07/
LOCATION:Daley Road\, 122 Daley Rd\, East Chatham\, 12060\, United States
CATEGORIES:Homeschool
END:VEVENT
BEGIN:VEVENT
DTSTART;TZID=America/New_York:20260509T100000
DTEND;TZID=America/New_York:20260509T160000
DTSTAMP:20260423T000638
CREATED:20250806T041555Z
LAST-MODIFIED:20250806T041555Z
UID:10003569-1778320800-1778342400@flyingdeernaturecenter.org
SUMMARY:Program in East Chatham
DESCRIPTION:
URL:https://flyingdeernaturecenter.org/event/program-in-east-chatham-8/
LOCATION:Daley Road\, 122 Daley Rd\, East Chatham\, 12060\, United States
CATEGORIES:Saturday Explorers
END:VEVENT
BEGIN:VEVENT
DTSTART;TZID=America/New_York:20260511T090000
DTEND;TZID=America/New_York:20260511T150000
DTSTAMP:20260423T000638
CREATED:20250806T034140Z
LAST-MODIFIED:20250806T034140Z
UID:10003476-1778490000-1778511600@flyingdeernaturecenter.org
SUMMARY:Wild Ways Teen Program
DESCRIPTION:
URL:https://flyingdeernaturecenter.org/event/wild-ways-teen-program-16/2026-05-11/
LOCATION:Daley Road\, 122 Daley Rd\, East Chatham\, 12060\, United States
CATEGORIES:Homeschool
END:VEVENT
BEGIN:VEVENT
DTSTART;TZID=America/New_York:20260512T090000
DTEND;TZID=America/New_York:20260512T150000
DTSTAMP:20260423T000638
CREATED:20250806T034751Z
LAST-MODIFIED:20250806T034751Z
UID:10003512-1778576400-1778598000@flyingdeernaturecenter.org
SUMMARY:Forest K in East Chatham
DESCRIPTION:
URL:https://flyingdeernaturecenter.org/event/forest-k-in-east-chatham-4/2026-05-12/
LOCATION:Daley Road\, 122 Daley Rd\, East Chatham\, 12060\, United States
CATEGORIES:Forest Kindergarten
END:VEVENT
BEGIN:VEVENT
DTSTART;TZID=America/New_York:20260512T090000
DTEND;TZID=America/New_York:20260512T150000
DTSTAMP:20260423T000638
CREATED:20251014T160212Z
LAST-MODIFIED:20251014T160212Z
UID:10003697-1778576400-1778598000@flyingdeernaturecenter.org
SUMMARY:Treetop
DESCRIPTION:
URL:https://flyingdeernaturecenter.org/event/treetop-28/
LOCATION:Daley Road\, 122 Daley Rd\, East Chatham\, 12060\, United States
CATEGORIES:Homeschool
END:VEVENT
BEGIN:VEVENT
DTSTART;TZID=America/New_York:20260513T090000
DTEND;TZID=America/New_York:20260513T150000
DTSTAMP:20260423T000638
CREATED:20250806T034943Z
LAST-MODIFIED:20250806T034943Z
UID:10003524-1778662800-1778684400@flyingdeernaturecenter.org
SUMMARY:Forest K in East Chatham
DESCRIPTION:
URL:https://flyingdeernaturecenter.org/event/forest-k-in-east-chatham-5/2026-05-13/
LOCATION:Daley Road\, 122 Daley Rd\, East Chatham\, 12060\, United States
CATEGORIES:Forest Kindergarten
END:VEVENT
BEGIN:VEVENT
DTSTART;TZID=America/New_York:20260513T090000
DTEND;TZID=America/New_York:20260513T150000
DTSTAMP:20260423T000638
CREATED:20250806T035308Z
LAST-MODIFIED:20250806T035308Z
UID:10003548-1778662800-1778684400@flyingdeernaturecenter.org
SUMMARY:FOREST Homeschool Program
DESCRIPTION:
URL:https://flyingdeernaturecenter.org/event/forest-homeschool-program-25/2026-05-13/
LOCATION:Daley Road\, 122 Daley Rd\, East Chatham\, 12060\, United States
CATEGORIES:Homeschool
END:VEVENT
BEGIN:VEVENT
DTSTART;TZID=America/New_York:20260514T090000
DTEND;TZID=America/New_York:20260514T150000
DTSTAMP:20260423T000638
CREATED:20250806T035109Z
LAST-MODIFIED:20250806T035109Z
UID:10003536-1778749200-1778770800@flyingdeernaturecenter.org
SUMMARY:Forest K in East Chatham
DESCRIPTION:
URL:https://flyingdeernaturecenter.org/event/forest-k-in-east-chatham-6/2026-05-14/
LOCATION:Daley Road\, 122 Daley Rd\, East Chatham\, 12060\, United States
CATEGORIES:Forest Kindergarten
END:VEVENT
BEGIN:VEVENT
DTSTART;TZID=America/New_York:20260514T090000
DTEND;TZID=America/New_York:20260514T150000
DTSTAMP:20260423T000638
CREATED:20250806T035453Z
LAST-MODIFIED:20250806T035453Z
UID:10003560-1778749200-1778770800@flyingdeernaturecenter.org
SUMMARY:FOREST Homeschool Program
DESCRIPTION:
URL:https://flyingdeernaturecenter.org/event/forest-homeschool-program-26/2026-05-14/
LOCATION:Daley Road\, 122 Daley Rd\, East Chatham\, 12060\, United States
CATEGORIES:Homeschool
END:VEVENT
BEGIN:VEVENT
DTSTART;TZID=America/New_York:20260518T090000
DTEND;TZID=America/New_York:20260518T150000
DTSTAMP:20260423T000638
CREATED:20250806T034140Z
LAST-MODIFIED:20250806T034140Z
UID:10003477-1779094800-1779116400@flyingdeernaturecenter.org
SUMMARY:Wild Ways Teen Program
DESCRIPTION:
URL:https://flyingdeernaturecenter.org/event/wild-ways-teen-program-16/2026-05-18/
LOCATION:Daley Road\, 122 Daley Rd\, East Chatham\, 12060\, United States
CATEGORIES:Homeschool
END:VEVENT
BEGIN:VEVENT
DTSTART;TZID=America/New_York:20260519T090000
DTEND;TZID=America/New_York:20260519T150000
DTSTAMP:20260423T000638
CREATED:20250806T034751Z
LAST-MODIFIED:20250806T034751Z
UID:10003513-1779181200-1779202800@flyingdeernaturecenter.org
SUMMARY:Forest K in East Chatham
DESCRIPTION:
URL:https://flyingdeernaturecenter.org/event/forest-k-in-east-chatham-4/2026-05-19/
LOCATION:Daley Road\, 122 Daley Rd\, East Chatham\, 12060\, United States
CATEGORIES:Forest Kindergarten
END:VEVENT
BEGIN:VEVENT
DTSTART;TZID=America/New_York:20260519T090000
DTEND;TZID=America/New_York:20260519T150000
DTSTAMP:20260423T000638
CREATED:20251014T160213Z
LAST-MODIFIED:20251014T160213Z
UID:10003698-1779181200-1779202800@flyingdeernaturecenter.org
SUMMARY:Treetop
DESCRIPTION:
URL:https://flyingdeernaturecenter.org/event/treetop-29/
LOCATION:Daley Road\, 122 Daley Rd\, East Chatham\, 12060\, United States
CATEGORIES:Homeschool
END:VEVENT
BEGIN:VEVENT
DTSTART;TZID=America/New_York:20260520T090000
DTEND;TZID=America/New_York:20260520T150000
DTSTAMP:20260423T000638
CREATED:20250806T034943Z
LAST-MODIFIED:20250806T034943Z
UID:10003525-1779267600-1779289200@flyingdeernaturecenter.org
SUMMARY:Forest K in East Chatham
DESCRIPTION:
URL:https://flyingdeernaturecenter.org/event/forest-k-in-east-chatham-5/2026-05-20/
LOCATION:Daley Road\, 122 Daley Rd\, East Chatham\, 12060\, United States
CATEGORIES:Forest Kindergarten
END:VEVENT
BEGIN:VEVENT
DTSTART;TZID=America/New_York:20260520T090000
DTEND;TZID=America/New_York:20260520T150000
DTSTAMP:20260423T000638
CREATED:20250806T035308Z
LAST-MODIFIED:20250806T035308Z
UID:10003549-1779267600-1779289200@flyingdeernaturecenter.org
SUMMARY:FOREST Homeschool Program
DESCRIPTION:
URL:https://flyingdeernaturecenter.org/event/forest-homeschool-program-25/2026-05-20/
LOCATION:Daley Road\, 122 Daley Rd\, East Chatham\, 12060\, United States
CATEGORIES:Homeschool
END:VEVENT
BEGIN:VEVENT
DTSTART;TZID=America/New_York:20260521T090000
DTEND;TZID=America/New_York:20260521T150000
DTSTAMP:20260423T000638
CREATED:20250806T035109Z
LAST-MODIFIED:20250806T035109Z
UID:10003537-1779354000-1779375600@flyingdeernaturecenter.org
SUMMARY:Forest K in East Chatham
DESCRIPTION:
URL:https://flyingdeernaturecenter.org/event/forest-k-in-east-chatham-6/2026-05-21/
LOCATION:Daley Road\, 122 Daley Rd\, East Chatham\, 12060\, United States
CATEGORIES:Forest Kindergarten
END:VEVENT
BEGIN:VEVENT
DTSTART;TZID=America/New_York:20260521T090000
DTEND;TZID=America/New_York:20260521T150000
DTSTAMP:20260423T000638
CREATED:20250806T035453Z
LAST-MODIFIED:20250806T035453Z
UID:10003561-1779354000-1779375600@flyingdeernaturecenter.org
SUMMARY:FOREST Homeschool Program
DESCRIPTION:
URL:https://flyingdeernaturecenter.org/event/forest-homeschool-program-26/2026-05-21/
LOCATION:Daley Road\, 122 Daley Rd\, East Chatham\, 12060\, United States
CATEGORIES:Homeschool
END:VEVENT
BEGIN:VEVENT
DTSTART;TZID=America/New_York:20260523T100000
DTEND;TZID=America/New_York:20260523T130000
DTSTAMP:20260423T000638
CREATED:20260225T155903Z
LAST-MODIFIED:20260225T160035Z
UID:10003806-1779530400-1779541200@flyingdeernaturecenter.org
SUMMARY:Program in East Chatham
DESCRIPTION:
URL:https://flyingdeernaturecenter.org/event/program-2/
LOCATION:Daley Road\, 122 Daley Rd\, East Chatham\, 12060\, United States
END:VEVENT
BEGIN:VEVENT
DTSTART;VALUE=DATE:20260530
DTEND;VALUE=DATE:20260601
DTSTAMP:20260423T000638
CREATED:20250806T044007Z
LAST-MODIFIED:20250806T044007Z
UID:10003579-1780099200-1780271999@flyingdeernaturecenter.org
SUMMARY:Awakening Wild Overnight
DESCRIPTION:
URL:https://flyingdeernaturecenter.org/event/awakening-wild-overnight-2/
LOCATION:Daley Road\, 122 Daley Rd\, East Chatham\, 12060\, United States
CATEGORIES:Adult & Teen Program
END:VEVENT
BEGIN:VEVENT
DTSTART;TZID=America/New_York:20260530T090000
DTEND;TZID=America/New_York:20260530T150000
DTSTAMP:20260423T000638
CREATED:20240516T013129Z
LAST-MODIFIED:20250728T172645Z
UID:10002572-1780131600-1780153200@flyingdeernaturecenter.org
SUMMARY:Saturday Explorers (East Chatham\, NY)
DESCRIPTION:
URL:https://flyingdeernaturecenter.org/event/saturday-explorers-in-east-chatham-6/2026-05-30/
LOCATION:Daley Road\, 122 Daley Rd\, East Chatham\, 12060\, United States
CATEGORIES:Saturday Explorers
END:VEVENT
BEGIN:VEVENT
DTSTART;TZID=America/New_York:20260613T110000
DTEND;TZID=America/New_York:20260613T160000
DTSTAMP:20260423T000638
CREATED:20250806T032118Z
LAST-MODIFIED:20260204T193811Z
UID:10003447-1781348400-1781366400@flyingdeernaturecenter.org
SUMMARY:Flying Deer Day
DESCRIPTION:
URL:https://flyingdeernaturecenter.org/event/flying-deer-day-6/
LOCATION:Daley Road\, 122 Daley Rd\, East Chatham\, 12060\, United States
CATEGORIES:Featured Event
END:VEVENT
BEGIN:VEVENT
DTSTART;VALUE=DATE:20260622
DTEND;VALUE=DATE:20260627
DTSTAMP:20260423T000638
CREATED:20260201T035038Z
LAST-MODIFIED:20260201T035038Z
UID:10003778-1782086400-1782518399@flyingdeernaturecenter.org
SUMMARY:Cottonwood Camp Week 1
DESCRIPTION:
URL:https://flyingdeernaturecenter.org/event/cottonwood-camp-week-1-5/
LOCATION:Daley Road\, 122 Daley Rd\, East Chatham\, 12060\, United States
CATEGORIES:Summer — East Chatham
END:VEVENT
BEGIN:VEVENT
DTSTART;VALUE=DATE:20260629
DTEND;VALUE=DATE:20260704
DTSTAMP:20260423T000638
CREATED:20260201T035139Z
LAST-MODIFIED:20260201T035139Z
UID:10003779-1782691200-1783123199@flyingdeernaturecenter.org
SUMMARY:Cottonwood Camp Week 2
DESCRIPTION:
URL:https://flyingdeernaturecenter.org/event/cottonwood-camp-week-2-5/
LOCATION:Daley Road\, 122 Daley Rd\, East Chatham\, 12060\, United States
CATEGORIES:Summer — East Chatham
END:VEVENT
END:VCALENDAR