BEGIN:VCALENDAR
VERSION:2.0
PRODID:-//Flying Deer Nature Center - ECPv6.15.20//NONSGML v1.0//EN
CALSCALE:GREGORIAN
METHOD:PUBLISH
X-WR-CALNAME:Flying Deer Nature Center
X-ORIGINAL-URL:https://flyingdeernaturecenter.org
X-WR-CALDESC:Events for Flying Deer Nature Center
REFRESH-INTERVAL;VALUE=DURATION:PT1H
X-Robots-Tag:noindex
X-PUBLISHED-TTL:PT1H
BEGIN:VTIMEZONE
TZID:America/New_York
BEGIN:DAYLIGHT
TZOFFSETFROM:-0500
TZOFFSETTO:-0400
TZNAME:EDT
DTSTART:20250309T070000
END:DAYLIGHT
BEGIN:STANDARD
TZOFFSETFROM:-0400
TZOFFSETTO:-0500
TZNAME:EST
DTSTART:20251102T060000
END:STANDARD
BEGIN:DAYLIGHT
TZOFFSETFROM:-0500
TZOFFSETTO:-0400
TZNAME:EDT
DTSTART:20260308T070000
END:DAYLIGHT
BEGIN:STANDARD
TZOFFSETFROM:-0400
TZOFFSETTO:-0500
TZNAME:EST
DTSTART:20261101T060000
END:STANDARD
BEGIN:DAYLIGHT
TZOFFSETFROM:-0500
TZOFFSETTO:-0400
TZNAME:EDT
DTSTART:20270314T070000
END:DAYLIGHT
BEGIN:STANDARD
TZOFFSETFROM:-0400
TZOFFSETTO:-0500
TZNAME:EST
DTSTART:20271107T060000
END:STANDARD
END:VTIMEZONE
BEGIN:VEVENT
DTSTART;TZID=America/New_York:20260424T090000
DTEND;TZID=America/New_York:20260424T130000
DTSTAMP:20260422T205044
CREATED:20250806T034350Z
LAST-MODIFIED:20250806T034350Z
UID:10003485-1777021200-1777035600@flyingdeernaturecenter.org
SUMMARY:Forest K at the Cobble
DESCRIPTION:
URL:https://flyingdeernaturecenter.org/event/forest-k-at-the-cobble-11/2026-04-24/
LOCATION:Bartholomew’s Cobble\, 105 Weatogue Road\, Ashley Falls\, Sheffield\, MA\, 01257\, United States
CATEGORIES:Forest Kindergarten
END:VEVENT
BEGIN:VEVENT
DTSTART;TZID=America/New_York:20260501T090000
DTEND;TZID=America/New_York:20260501T130000
DTSTAMP:20260422T205044
CREATED:20250806T034350Z
LAST-MODIFIED:20250806T034350Z
UID:10003486-1777626000-1777640400@flyingdeernaturecenter.org
SUMMARY:Forest K at the Cobble
DESCRIPTION:
URL:https://flyingdeernaturecenter.org/event/forest-k-at-the-cobble-11/2026-05-01/
LOCATION:Bartholomew’s Cobble\, 105 Weatogue Road\, Ashley Falls\, Sheffield\, MA\, 01257\, United States
CATEGORIES:Forest Kindergarten
END:VEVENT
BEGIN:VEVENT
DTSTART;TZID=America/New_York:20260508T090000
DTEND;TZID=America/New_York:20260508T130000
DTSTAMP:20260422T205044
CREATED:20250806T034350Z
LAST-MODIFIED:20250806T034350Z
UID:10003487-1778230800-1778245200@flyingdeernaturecenter.org
SUMMARY:Forest K at the Cobble
DESCRIPTION:
URL:https://flyingdeernaturecenter.org/event/forest-k-at-the-cobble-11/2026-05-08/
LOCATION:Bartholomew’s Cobble\, 105 Weatogue Road\, Ashley Falls\, Sheffield\, MA\, 01257\, United States
CATEGORIES:Forest Kindergarten
END:VEVENT
BEGIN:VEVENT
DTSTART;TZID=America/New_York:20260515T090000
DTEND;TZID=America/New_York:20260515T130000
DTSTAMP:20260422T205044
CREATED:20250806T034350Z
LAST-MODIFIED:20250806T034350Z
UID:10003488-1778835600-1778850000@flyingdeernaturecenter.org
SUMMARY:Forest K at the Cobble
DESCRIPTION:
URL:https://flyingdeernaturecenter.org/event/forest-k-at-the-cobble-11/2026-05-15/
LOCATION:Bartholomew’s Cobble\, 105 Weatogue Road\, Ashley Falls\, Sheffield\, MA\, 01257\, United States
CATEGORIES:Forest Kindergarten
END:VEVENT
BEGIN:VEVENT
DTSTART;TZID=America/New_York:20260522T090000
DTEND;TZID=America/New_York:20260522T130000
DTSTAMP:20260422T205044
CREATED:20250806T034350Z
LAST-MODIFIED:20250806T034350Z
UID:10003489-1779440400-1779454800@flyingdeernaturecenter.org
SUMMARY:Forest K at the Cobble
DESCRIPTION:
URL:https://flyingdeernaturecenter.org/event/forest-k-at-the-cobble-11/2026-05-22/
LOCATION:Bartholomew’s Cobble\, 105 Weatogue Road\, Ashley Falls\, Sheffield\, MA\, 01257\, United States
CATEGORIES:Forest Kindergarten
END:VEVENT
END:VCALENDAR