BEGIN:VCALENDAR
VERSION:2.0
PRODID:-//Flying Deer Nature Center - ECPv6.15.20//NONSGML v1.0//EN
CALSCALE:GREGORIAN
METHOD:PUBLISH
X-WR-CALNAME:Flying Deer Nature Center
X-ORIGINAL-URL:https://flyingdeernaturecenter.org
X-WR-CALDESC:Events for Flying Deer Nature Center
REFRESH-INTERVAL;VALUE=DURATION:PT1H
X-Robots-Tag:noindex
X-PUBLISHED-TTL:PT1H
BEGIN:VTIMEZONE
TZID:America/New_York
BEGIN:DAYLIGHT
TZOFFSETFROM:-0500
TZOFFSETTO:-0400
TZNAME:EDT
DTSTART:20250309T070000
END:DAYLIGHT
BEGIN:STANDARD
TZOFFSETFROM:-0400
TZOFFSETTO:-0500
TZNAME:EST
DTSTART:20251102T060000
END:STANDARD
BEGIN:DAYLIGHT
TZOFFSETFROM:-0500
TZOFFSETTO:-0400
TZNAME:EDT
DTSTART:20260308T070000
END:DAYLIGHT
BEGIN:STANDARD
TZOFFSETFROM:-0400
TZOFFSETTO:-0500
TZNAME:EST
DTSTART:20261101T060000
END:STANDARD
BEGIN:DAYLIGHT
TZOFFSETFROM:-0500
TZOFFSETTO:-0400
TZNAME:EDT
DTSTART:20270314T070000
END:DAYLIGHT
BEGIN:STANDARD
TZOFFSETFROM:-0400
TZOFFSETTO:-0500
TZNAME:EST
DTSTART:20271107T060000
END:STANDARD
END:VTIMEZONE
BEGIN:VEVENT
DTSTART;TZID=America/New_York:20260302T090000
DTEND;TZID=America/New_York:20260302T150000
DTSTAMP:20260424T092608
CREATED:20250806T034140Z
LAST-MODIFIED:20250806T034140Z
UID:10003466-1772442000-1772463600@flyingdeernaturecenter.org
SUMMARY:Wild Ways Teen Program
DESCRIPTION:
URL:https://flyingdeernaturecenter.org/event/wild-ways-teen-program-16/2026-03-02/
LOCATION:Daley Road\, 122 Daley Rd\, East Chatham\, 12060\, United States
CATEGORIES:Homeschool
END:VEVENT
BEGIN:VEVENT
DTSTART;TZID=America/New_York:20260303T090000
DTEND;TZID=America/New_York:20260303T150000
DTSTAMP:20260424T092608
CREATED:20250806T034751Z
LAST-MODIFIED:20250806T034751Z
UID:10003502-1772528400-1772550000@flyingdeernaturecenter.org
SUMMARY:Forest K in East Chatham
DESCRIPTION:
URL:https://flyingdeernaturecenter.org/event/forest-k-in-east-chatham-4/2026-03-03/
LOCATION:Daley Road\, 122 Daley Rd\, East Chatham\, 12060\, United States
CATEGORIES:Forest Kindergarten
END:VEVENT
BEGIN:VEVENT
DTSTART;TZID=America/New_York:20260303T090000
DTEND;TZID=America/New_York:20260303T150000
DTSTAMP:20260424T092608
CREATED:20251014T160142Z
LAST-MODIFIED:20251014T160142Z
UID:10003687-1772528400-1772550000@flyingdeernaturecenter.org
SUMMARY:Treetop
DESCRIPTION:
URL:https://flyingdeernaturecenter.org/event/treetop-18/
LOCATION:Daley Road\, 122 Daley Rd\, East Chatham\, 12060\, United States
CATEGORIES:Homeschool
END:VEVENT
BEGIN:VEVENT
DTSTART;TZID=America/New_York:20260304T090000
DTEND;TZID=America/New_York:20260304T150000
DTSTAMP:20260424T092608
CREATED:20250806T034943Z
LAST-MODIFIED:20250806T034943Z
UID:10003514-1772614800-1772636400@flyingdeernaturecenter.org
SUMMARY:Forest K in East Chatham
DESCRIPTION:
URL:https://flyingdeernaturecenter.org/event/forest-k-in-east-chatham-5/2026-03-04/
LOCATION:Daley Road\, 122 Daley Rd\, East Chatham\, 12060\, United States
CATEGORIES:Forest Kindergarten
END:VEVENT
BEGIN:VEVENT
DTSTART;TZID=America/New_York:20260304T090000
DTEND;TZID=America/New_York:20260304T150000
DTSTAMP:20260424T092608
CREATED:20250806T035308Z
LAST-MODIFIED:20250806T035308Z
UID:10003538-1772614800-1772636400@flyingdeernaturecenter.org
SUMMARY:FOREST Homeschool Program
DESCRIPTION:
URL:https://flyingdeernaturecenter.org/event/forest-homeschool-program-25/2026-03-04/
LOCATION:Daley Road\, 122 Daley Rd\, East Chatham\, 12060\, United States
CATEGORIES:Homeschool
END:VEVENT
BEGIN:VEVENT
DTSTART;TZID=America/New_York:20260305T090000
DTEND;TZID=America/New_York:20260305T150000
DTSTAMP:20260424T092608
CREATED:20250806T035109Z
LAST-MODIFIED:20250806T035109Z
UID:10003526-1772701200-1772722800@flyingdeernaturecenter.org
SUMMARY:Forest K in East Chatham
DESCRIPTION:
URL:https://flyingdeernaturecenter.org/event/forest-k-in-east-chatham-6/2026-03-05/
LOCATION:Daley Road\, 122 Daley Rd\, East Chatham\, 12060\, United States
CATEGORIES:Forest Kindergarten
END:VEVENT
BEGIN:VEVENT
DTSTART;TZID=America/New_York:20260305T090000
DTEND;TZID=America/New_York:20260305T150000
DTSTAMP:20260424T092608
CREATED:20250806T035453Z
LAST-MODIFIED:20250806T035453Z
UID:10003550-1772701200-1772722800@flyingdeernaturecenter.org
SUMMARY:FOREST Homeschool Program
DESCRIPTION:
URL:https://flyingdeernaturecenter.org/event/forest-homeschool-program-26/2026-03-05/
LOCATION:Daley Road\, 122 Daley Rd\, East Chatham\, 12060\, United States
CATEGORIES:Homeschool
END:VEVENT
BEGIN:VEVENT
DTSTART;TZID=America/New_York:20260306T090000
DTEND;TZID=America/New_York:20260306T130000
DTSTAMP:20260424T092608
CREATED:20250806T034350Z
LAST-MODIFIED:20250806T034350Z
UID:10003478-1772787600-1772802000@flyingdeernaturecenter.org
SUMMARY:Forest K at the Cobble
DESCRIPTION:
URL:https://flyingdeernaturecenter.org/event/forest-k-at-the-cobble-11/2026-03-06/
LOCATION:Bartholomew’s Cobble\, 105 Weatogue Road\, Ashley Falls\, Sheffield\, MA\, 01257\, United States
CATEGORIES:Forest Kindergarten
END:VEVENT
BEGIN:VEVENT
DTSTART;TZID=America/New_York:20260306T090000
DTEND;TZID=America/New_York:20260306T150000
DTSTAMP:20260424T092608
CREATED:20250806T034518Z
LAST-MODIFIED:20250806T034518Z
UID:10003490-1772787600-1772809200@flyingdeernaturecenter.org
SUMMARY:Cobblers Homeschool Program
DESCRIPTION:
URL:https://flyingdeernaturecenter.org/event/cobblers-homeschool-program-14/2026-03-06/
LOCATION:Bartholomew’s Cobble\, 105 Weatogue Road\, Ashley Falls\, Sheffield\, MA\, 01257\, United States
CATEGORIES:Homeschool
END:VEVENT
BEGIN:VEVENT
DTSTART;TZID=America/New_York:20260307T100000
DTEND;TZID=America/New_York:20260307T160000
DTSTAMP:20260424T092608
CREATED:20250806T031538Z
LAST-MODIFIED:20250806T035620Z
UID:10003444-1772877600-1772899200@flyingdeernaturecenter.org
SUMMARY:Luna Moth: Father / Uncle / Mentor Day
DESCRIPTION:
URL:https://flyingdeernaturecenter.org/event/luna-moth-father-uncle-mentor-day/
CATEGORIES:Rites of Passage
END:VEVENT
BEGIN:VEVENT
DTSTART;TZID=America/New_York:20260307T100000
DTEND;TZID=America/New_York:20260307T160000
DTSTAMP:20260424T092608
CREATED:20251001T180059Z
LAST-MODIFIED:20251001T180059Z
UID:10003663-1772877600-1772899200@flyingdeernaturecenter.org
SUMMARY:Sacred Fire Adventure Day
DESCRIPTION:
URL:https://flyingdeernaturecenter.org/event/sacred-fire-adventure-day-8/
LOCATION:Daley Road\, 122 Daley Rd\, East Chatham\, 12060\, United States
CATEGORIES:Rites of Passage
END:VEVENT
BEGIN:VEVENT
DTSTART;TZID=America/New_York:20260307T160000
DTEND;TZID=America/New_York:20260307T190000
DTSTAMP:20260424T092608
CREATED:20251001T180102Z
LAST-MODIFIED:20251001T180102Z
UID:10003664-1772899200-1772910000@flyingdeernaturecenter.org
SUMMARY:Sacred Fire First-Year Potluck
DESCRIPTION:
URL:https://flyingdeernaturecenter.org/event/sacred-fire-first-year-potluck-2/
LOCATION:Daley Road\, 122 Daley Rd\, East Chatham\, 12060\, United States
CATEGORIES:Rites of Passage
END:VEVENT
BEGIN:VEVENT
DTSTART;TZID=America/New_York:20260309T090000
DTEND;TZID=America/New_York:20260309T150000
DTSTAMP:20260424T092608
CREATED:20250806T034140Z
LAST-MODIFIED:20250806T034140Z
UID:10003467-1773046800-1773068400@flyingdeernaturecenter.org
SUMMARY:Wild Ways Teen Program
DESCRIPTION:
URL:https://flyingdeernaturecenter.org/event/wild-ways-teen-program-16/2026-03-09/
LOCATION:Daley Road\, 122 Daley Rd\, East Chatham\, 12060\, United States
CATEGORIES:Homeschool
END:VEVENT
BEGIN:VEVENT
DTSTART;TZID=America/New_York:20260310T090000
DTEND;TZID=America/New_York:20260310T150000
DTSTAMP:20260424T092608
CREATED:20250806T034751Z
LAST-MODIFIED:20250806T034751Z
UID:10003503-1773133200-1773154800@flyingdeernaturecenter.org
SUMMARY:Forest K in East Chatham
DESCRIPTION:
URL:https://flyingdeernaturecenter.org/event/forest-k-in-east-chatham-4/2026-03-10/
LOCATION:Daley Road\, 122 Daley Rd\, East Chatham\, 12060\, United States
CATEGORIES:Forest Kindergarten
END:VEVENT
BEGIN:VEVENT
DTSTART;TZID=America/New_York:20260310T090000
DTEND;TZID=America/New_York:20260310T150000
DTSTAMP:20260424T092608
CREATED:20251014T160143Z
LAST-MODIFIED:20251014T160143Z
UID:10003688-1773133200-1773154800@flyingdeernaturecenter.org
SUMMARY:Treetop
DESCRIPTION:
URL:https://flyingdeernaturecenter.org/event/treetop-19/
LOCATION:Daley Road\, 122 Daley Rd\, East Chatham\, 12060\, United States
CATEGORIES:Homeschool
END:VEVENT
BEGIN:VEVENT
DTSTART;TZID=America/New_York:20260311T090000
DTEND;TZID=America/New_York:20260311T150000
DTSTAMP:20260424T092608
CREATED:20250806T034943Z
LAST-MODIFIED:20250806T034943Z
UID:10003515-1773219600-1773241200@flyingdeernaturecenter.org
SUMMARY:Forest K in East Chatham
DESCRIPTION:
URL:https://flyingdeernaturecenter.org/event/forest-k-in-east-chatham-5/2026-03-11/
LOCATION:Daley Road\, 122 Daley Rd\, East Chatham\, 12060\, United States
CATEGORIES:Forest Kindergarten
END:VEVENT
BEGIN:VEVENT
DTSTART;TZID=America/New_York:20260311T090000
DTEND;TZID=America/New_York:20260311T150000
DTSTAMP:20260424T092608
CREATED:20250806T035308Z
LAST-MODIFIED:20250806T035308Z
UID:10003539-1773219600-1773241200@flyingdeernaturecenter.org
SUMMARY:FOREST Homeschool Program
DESCRIPTION:
URL:https://flyingdeernaturecenter.org/event/forest-homeschool-program-25/2026-03-11/
LOCATION:Daley Road\, 122 Daley Rd\, East Chatham\, 12060\, United States
CATEGORIES:Homeschool
END:VEVENT
BEGIN:VEVENT
DTSTART;TZID=America/New_York:20260312T090000
DTEND;TZID=America/New_York:20260312T150000
DTSTAMP:20260424T092608
CREATED:20250806T035109Z
LAST-MODIFIED:20250806T035109Z
UID:10003527-1773306000-1773327600@flyingdeernaturecenter.org
SUMMARY:Forest K in East Chatham
DESCRIPTION:
URL:https://flyingdeernaturecenter.org/event/forest-k-in-east-chatham-6/2026-03-12/
LOCATION:Daley Road\, 122 Daley Rd\, East Chatham\, 12060\, United States
CATEGORIES:Forest Kindergarten
END:VEVENT
BEGIN:VEVENT
DTSTART;TZID=America/New_York:20260312T090000
DTEND;TZID=America/New_York:20260312T150000
DTSTAMP:20260424T092608
CREATED:20250806T035453Z
LAST-MODIFIED:20250806T035453Z
UID:10003551-1773306000-1773327600@flyingdeernaturecenter.org
SUMMARY:FOREST Homeschool Program
DESCRIPTION:
URL:https://flyingdeernaturecenter.org/event/forest-homeschool-program-26/2026-03-12/
LOCATION:Daley Road\, 122 Daley Rd\, East Chatham\, 12060\, United States
CATEGORIES:Homeschool
END:VEVENT
BEGIN:VEVENT
DTSTART;TZID=America/New_York:20260313T090000
DTEND;TZID=America/New_York:20260313T130000
DTSTAMP:20260424T092608
CREATED:20250806T034350Z
LAST-MODIFIED:20250806T034350Z
UID:10003479-1773392400-1773406800@flyingdeernaturecenter.org
SUMMARY:Forest K at the Cobble
DESCRIPTION:
URL:https://flyingdeernaturecenter.org/event/forest-k-at-the-cobble-11/2026-03-13/
LOCATION:Bartholomew’s Cobble\, 105 Weatogue Road\, Ashley Falls\, Sheffield\, MA\, 01257\, United States
CATEGORIES:Forest Kindergarten
END:VEVENT
BEGIN:VEVENT
DTSTART;TZID=America/New_York:20260313T090000
DTEND;TZID=America/New_York:20260313T150000
DTSTAMP:20260424T092608
CREATED:20250806T034518Z
LAST-MODIFIED:20250806T034518Z
UID:10003491-1773392400-1773414000@flyingdeernaturecenter.org
SUMMARY:Cobblers Homeschool Program
DESCRIPTION:
URL:https://flyingdeernaturecenter.org/event/cobblers-homeschool-program-14/2026-03-13/
LOCATION:Bartholomew’s Cobble\, 105 Weatogue Road\, Ashley Falls\, Sheffield\, MA\, 01257\, United States
CATEGORIES:Homeschool
END:VEVENT
BEGIN:VEVENT
DTSTART;TZID=America/New_York:20260316T090000
DTEND;TZID=America/New_York:20260316T150000
DTSTAMP:20260424T092608
CREATED:20250806T034140Z
LAST-MODIFIED:20250806T034140Z
UID:10003468-1773651600-1773673200@flyingdeernaturecenter.org
SUMMARY:Wild Ways Teen Program
DESCRIPTION:
URL:https://flyingdeernaturecenter.org/event/wild-ways-teen-program-16/2026-03-16/
LOCATION:Daley Road\, 122 Daley Rd\, East Chatham\, 12060\, United States
CATEGORIES:Homeschool
END:VEVENT
BEGIN:VEVENT
DTSTART;TZID=America/New_York:20260317T090000
DTEND;TZID=America/New_York:20260317T150000
DTSTAMP:20260424T092608
CREATED:20250806T034751Z
LAST-MODIFIED:20250806T034751Z
UID:10003504-1773738000-1773759600@flyingdeernaturecenter.org
SUMMARY:Forest K in East Chatham
DESCRIPTION:
URL:https://flyingdeernaturecenter.org/event/forest-k-in-east-chatham-4/2026-03-17/
LOCATION:Daley Road\, 122 Daley Rd\, East Chatham\, 12060\, United States
CATEGORIES:Forest Kindergarten
END:VEVENT
BEGIN:VEVENT
DTSTART;TZID=America/New_York:20260317T090000
DTEND;TZID=America/New_York:20260317T150000
DTSTAMP:20260424T092608
CREATED:20251014T160144Z
LAST-MODIFIED:20251014T160144Z
UID:10003689-1773738000-1773759600@flyingdeernaturecenter.org
SUMMARY:Treetop
DESCRIPTION:
URL:https://flyingdeernaturecenter.org/event/treetop-20/
LOCATION:Daley Road\, 122 Daley Rd\, East Chatham\, 12060\, United States
CATEGORIES:Homeschool
END:VEVENT
BEGIN:VEVENT
DTSTART;TZID=America/New_York:20260318T090000
DTEND;TZID=America/New_York:20260318T150000
DTSTAMP:20260424T092608
CREATED:20250806T034943Z
LAST-MODIFIED:20250806T034943Z
UID:10003516-1773824400-1773846000@flyingdeernaturecenter.org
SUMMARY:Forest K in East Chatham
DESCRIPTION:
URL:https://flyingdeernaturecenter.org/event/forest-k-in-east-chatham-5/2026-03-18/
LOCATION:Daley Road\, 122 Daley Rd\, East Chatham\, 12060\, United States
CATEGORIES:Forest Kindergarten
END:VEVENT
BEGIN:VEVENT
DTSTART;TZID=America/New_York:20260318T090000
DTEND;TZID=America/New_York:20260318T150000
DTSTAMP:20260424T092608
CREATED:20250806T035308Z
LAST-MODIFIED:20250806T035308Z
UID:10003540-1773824400-1773846000@flyingdeernaturecenter.org
SUMMARY:FOREST Homeschool Program
DESCRIPTION:
URL:https://flyingdeernaturecenter.org/event/forest-homeschool-program-25/2026-03-18/
LOCATION:Daley Road\, 122 Daley Rd\, East Chatham\, 12060\, United States
CATEGORIES:Homeschool
END:VEVENT
BEGIN:VEVENT
DTSTART;TZID=America/New_York:20260319T090000
DTEND;TZID=America/New_York:20260319T150000
DTSTAMP:20260424T092608
CREATED:20250806T035109Z
LAST-MODIFIED:20250806T035109Z
UID:10003528-1773910800-1773932400@flyingdeernaturecenter.org
SUMMARY:Forest K in East Chatham
DESCRIPTION:
URL:https://flyingdeernaturecenter.org/event/forest-k-in-east-chatham-6/2026-03-19/
LOCATION:Daley Road\, 122 Daley Rd\, East Chatham\, 12060\, United States
CATEGORIES:Forest Kindergarten
END:VEVENT
BEGIN:VEVENT
DTSTART;TZID=America/New_York:20260319T090000
DTEND;TZID=America/New_York:20260319T150000
DTSTAMP:20260424T092608
CREATED:20250806T035453Z
LAST-MODIFIED:20250806T035453Z
UID:10003552-1773910800-1773932400@flyingdeernaturecenter.org
SUMMARY:FOREST Homeschool Program
DESCRIPTION:
URL:https://flyingdeernaturecenter.org/event/forest-homeschool-program-26/2026-03-19/
LOCATION:Daley Road\, 122 Daley Rd\, East Chatham\, 12060\, United States
CATEGORIES:Homeschool
END:VEVENT
BEGIN:VEVENT
DTSTART;TZID=America/New_York:20260320T090000
DTEND;TZID=America/New_York:20260320T130000
DTSTAMP:20260424T092608
CREATED:20250806T034350Z
LAST-MODIFIED:20250806T034350Z
UID:10003480-1773997200-1774011600@flyingdeernaturecenter.org
SUMMARY:Forest K at the Cobble
DESCRIPTION:
URL:https://flyingdeernaturecenter.org/event/forest-k-at-the-cobble-11/2026-03-20/
LOCATION:Bartholomew’s Cobble\, 105 Weatogue Road\, Ashley Falls\, Sheffield\, MA\, 01257\, United States
CATEGORIES:Forest Kindergarten
END:VEVENT
BEGIN:VEVENT
DTSTART;TZID=America/New_York:20260320T090000
DTEND;TZID=America/New_York:20260320T150000
DTSTAMP:20260424T092608
CREATED:20250806T034518Z
LAST-MODIFIED:20250806T034518Z
UID:10003492-1773997200-1774018800@flyingdeernaturecenter.org
SUMMARY:Cobblers Homeschool Program
DESCRIPTION:
URL:https://flyingdeernaturecenter.org/event/cobblers-homeschool-program-14/2026-03-20/
LOCATION:Bartholomew’s Cobble\, 105 Weatogue Road\, Ashley Falls\, Sheffield\, MA\, 01257\, United States
CATEGORIES:Homeschool
END:VEVENT
END:VCALENDAR