BEGIN:VCALENDAR
VERSION:2.0
PRODID:-//Flying Deer Nature Center - ECPv6.15.20//NONSGML v1.0//EN
CALSCALE:GREGORIAN
METHOD:PUBLISH
X-WR-CALNAME:Flying Deer Nature Center
X-ORIGINAL-URL:https://flyingdeernaturecenter.org
X-WR-CALDESC:Events for Flying Deer Nature Center
REFRESH-INTERVAL;VALUE=DURATION:PT1H
X-Robots-Tag:noindex
X-PUBLISHED-TTL:PT1H
BEGIN:VTIMEZONE
TZID:America/New_York
BEGIN:DAYLIGHT
TZOFFSETFROM:-0500
TZOFFSETTO:-0400
TZNAME:EDT
DTSTART:20250309T070000
END:DAYLIGHT
BEGIN:STANDARD
TZOFFSETFROM:-0400
TZOFFSETTO:-0500
TZNAME:EST
DTSTART:20251102T060000
END:STANDARD
BEGIN:DAYLIGHT
TZOFFSETFROM:-0500
TZOFFSETTO:-0400
TZNAME:EDT
DTSTART:20260308T070000
END:DAYLIGHT
BEGIN:STANDARD
TZOFFSETFROM:-0400
TZOFFSETTO:-0500
TZNAME:EST
DTSTART:20261101T060000
END:STANDARD
BEGIN:DAYLIGHT
TZOFFSETFROM:-0500
TZOFFSETTO:-0400
TZNAME:EDT
DTSTART:20270314T070000
END:DAYLIGHT
BEGIN:STANDARD
TZOFFSETFROM:-0400
TZOFFSETTO:-0500
TZNAME:EST
DTSTART:20271107T060000
END:STANDARD
END:VTIMEZONE
BEGIN:VEVENT
DTSTART;TZID=America/New_York:20260202T090000
DTEND;TZID=America/New_York:20260202T150000
DTSTAMP:20260424T114233
CREATED:20250807T011426Z
LAST-MODIFIED:20250807T011426Z
UID:10003583-1770022800-1770044400@flyingdeernaturecenter.org
SUMMARY:Wild Ways Teen Program
DESCRIPTION:
URL:https://flyingdeernaturecenter.org/event/wild-ways-teen-program-17/2026-02-02/
CATEGORIES:Homeschool
END:VEVENT
BEGIN:VEVENT
DTSTART;TZID=America/New_York:20260203T080000
DTEND;TZID=America/New_York:20260203T170000
DTSTAMP:20260424T114233
CREATED:20250807T013146Z
LAST-MODIFIED:20250807T013354Z
UID:10003601-1770105600-1770138000@flyingdeernaturecenter.org
SUMMARY:Forest K in East Chatham
DESCRIPTION:
URL:https://flyingdeernaturecenter.org/event/forest-k-in-east-chatham-7/2026-02-03/
LOCATION:Daley Road\, 122 Daley Rd\, East Chatham\, 12060\, United States
CATEGORIES:Forest Kindergarten
END:VEVENT
BEGIN:VEVENT
DTSTART;TZID=America/New_York:20260203T090000
DTEND;TZID=America/New_York:20260203T150000
DTSTAMP:20260424T114233
CREATED:20251014T160142Z
LAST-MODIFIED:20251014T160142Z
UID:10003686-1770109200-1770130800@flyingdeernaturecenter.org
SUMMARY:Treetop
DESCRIPTION:
URL:https://flyingdeernaturecenter.org/event/treetop-17/
LOCATION:Daley Road\, 122 Daley Rd\, East Chatham\, 12060\, United States
CATEGORIES:Homeschool
END:VEVENT
BEGIN:VEVENT
DTSTART;TZID=America/New_York:20260204T090000
DTEND;TZID=America/New_York:20260204T150000
DTSTAMP:20260424T114233
CREATED:20250807T011816Z
LAST-MODIFIED:20250807T012257Z
UID:10003592-1770195600-1770217200@flyingdeernaturecenter.org
SUMMARY:FOREST Homeschool
DESCRIPTION:
URL:https://flyingdeernaturecenter.org/event/forest-homeschool-2/2026-02-04/
LOCATION:Daley Road\, 122 Daley Rd\, East Chatham\, 12060\, United States
CATEGORIES:Homeschool
END:VEVENT
BEGIN:VEVENT
DTSTART;TZID=America/New_York:20260204T090000
DTEND;TZID=America/New_York:20260204T150000
DTSTAMP:20260424T114233
CREATED:20250807T013621Z
LAST-MODIFIED:20250807T013621Z
UID:10003657-1770195600-1770217200@flyingdeernaturecenter.org
SUMMARY:Forest K in East Chatham
DESCRIPTION:
URL:https://flyingdeernaturecenter.org/event/forest-k-in-east-chatham-8/2026-02-04/
CATEGORIES:Forest Kindergarten
END:VEVENT
BEGIN:VEVENT
DTSTART;TZID=America/New_York:20260205T090000
DTEND;TZID=America/New_York:20260205T150000
DTSTAMP:20260424T114233
CREATED:20250807T012950Z
LAST-MODIFIED:20250807T012950Z
UID:10003597-1770282000-1770303600@flyingdeernaturecenter.org
SUMMARY:FOREST Homeschool
DESCRIPTION:
URL:https://flyingdeernaturecenter.org/event/forest-homeschool-3/2026-02-05/
LOCATION:Daley Road\, 122 Daley Rd\, East Chatham\, 12060\, United States
CATEGORIES:Homeschool
END:VEVENT
BEGIN:VEVENT
DTSTART;TZID=America/New_York:20260205T090000
DTEND;TZID=America/New_York:20260205T150000
DTSTAMP:20260424T114233
CREATED:20260108T200250Z
LAST-MODIFIED:20260108T200514Z
UID:10003725-1770282000-1770303600@flyingdeernaturecenter.org
SUMMARY:Forest K in East Chatham
DESCRIPTION:
URL:https://flyingdeernaturecenter.org/event/forest-k-in-east-chatham-10-2/2026-02-05/
LOCATION:Daley Road\, 122 Daley Rd\, East Chatham\, 12060\, United States
CATEGORIES:Forest Kindergarten
END:VEVENT
BEGIN:VEVENT
DTSTART;TZID=America/New_York:20260206T090000
DTEND;TZID=America/New_York:20260206T130000
DTSTAMP:20260424T114233
CREATED:20250807T011558Z
LAST-MODIFIED:20250807T011635Z
UID:10003587-1770368400-1770382800@flyingdeernaturecenter.org
SUMMARY:Forest K at the Cobble
DESCRIPTION:
URL:https://flyingdeernaturecenter.org/event/forest-k-at-the-cobble-12/2026-02-06/
LOCATION:Bartholomew’s Cobble\, 105 Weatogue Road\, Ashley Falls\, Sheffield\, MA\, 01257\, United States
CATEGORIES:Forest Kindergarten
END:VEVENT
BEGIN:VEVENT
DTSTART;TZID=America/New_York:20260206T090000
DTEND;TZID=America/New_York:20260206T150000
DTSTAMP:20260424T114233
CREATED:20251101T153313Z
LAST-MODIFIED:20251101T153313Z
UID:10003703-1770368400-1770390000@flyingdeernaturecenter.org
SUMMARY:Cobblers Homeschool Program
DESCRIPTION:
URL:https://flyingdeernaturecenter.org/event/cobblers-homeschool-program-15/2026-02-06/
LOCATION:Bartholomew’s Cobble\, 105 Weatogue Road\, Ashley Falls\, Sheffield\, MA\, 01257\, United States
CATEGORIES:Homeschool
END:VEVENT
BEGIN:VEVENT
DTSTART;VALUE=DATE:20260207
DTEND;VALUE=DATE:20260208
DTSTAMP:20260424T114233
CREATED:20250806T031435Z
LAST-MODIFIED:20250806T031435Z
UID:10003443-1770422400-1770508799@flyingdeernaturecenter.org
SUMMARY:Luna Moth (All Years) + 3rd-Year Parent Meeting
DESCRIPTION:
URL:https://flyingdeernaturecenter.org/event/luna-moth-all-years-3rd-year-parent-meeting/
LOCATION:Daley Road\, 122 Daley Rd\, East Chatham\, 12060\, United States
CATEGORIES:Rites of Passage
END:VEVENT
BEGIN:VEVENT
DTSTART;TZID=America/New_York:20260214T090000
DTEND;TZID=America/New_York:20260214T150000
DTSTAMP:20260424T114233
CREATED:20240516T013129Z
LAST-MODIFIED:20250728T172645Z
UID:10002570-1771059600-1771081200@flyingdeernaturecenter.org
SUMMARY:Saturday Explorers (East Chatham\, NY)
DESCRIPTION:
URL:https://flyingdeernaturecenter.org/event/saturday-explorers-in-east-chatham-6/2026-02-14/
LOCATION:Daley Road\, 122 Daley Rd\, East Chatham\, 12060\, United States
CATEGORIES:Saturday Explorers
END:VEVENT
BEGIN:VEVENT
DTSTART;TZID=America/New_York:20260214T100000
DTEND;TZID=America/New_York:20260214T160000
DTSTAMP:20260424T114233
CREATED:20250806T042808Z
LAST-MODIFIED:20250806T042808Z
UID:10003575-1771063200-1771084800@flyingdeernaturecenter.org
SUMMARY:Awakening Wild
DESCRIPTION:
URL:https://flyingdeernaturecenter.org/event/awakening-wild-19/
LOCATION:Daley Road\, 122 Daley Rd\, East Chatham\, 12060\, United States
CATEGORIES:Adult & Teen Program
END:VEVENT
BEGIN:VEVENT
DTSTART;VALUE=DATE:20260215
DTEND;VALUE=DATE:20260216
DTSTAMP:20260424T114233
CREATED:20260108T014839Z
LAST-MODIFIED:20260204T171052Z
UID:10003708-1771113600-1771199999@flyingdeernaturecenter.org
SUMMARY:Polar Plunge (Rescheduled)
DESCRIPTION:
URL:https://flyingdeernaturecenter.org/event/annual-polar-plunge-2/
LOCATION:Daley Road\, 122 Daley Rd\, East Chatham\, 12060\, United States
CATEGORIES:Featured Event
END:VEVENT
BEGIN:VEVENT
DTSTART;TZID=America/New_York:20260217T090000
DTEND;TZID=America/New_York:20260217T150000
DTSTAMP:20260424T114233
CREATED:20251110T183522Z
LAST-MODIFIED:20251110T183522Z
UID:10003704-1771318800-1771340400@flyingdeernaturecenter.org
SUMMARY:Snowshoe Hare Vacation Camp
DESCRIPTION:
URL:https://flyingdeernaturecenter.org/event/snowshoe-hare-vacation-camp-6/2026-02-17/
LOCATION:Daley Road\, 122 Daley Rd\, East Chatham\, 12060\, United States
CATEGORIES:Vacation Camp
END:VEVENT
BEGIN:VEVENT
DTSTART;TZID=America/New_York:20260218T090000
DTEND;TZID=America/New_York:20260218T150000
DTSTAMP:20260424T114233
CREATED:20251110T183522Z
LAST-MODIFIED:20251110T183522Z
UID:10003705-1771405200-1771426800@flyingdeernaturecenter.org
SUMMARY:Snowshoe Hare Vacation Camp
DESCRIPTION:
URL:https://flyingdeernaturecenter.org/event/snowshoe-hare-vacation-camp-6/2026-02-18/
LOCATION:Daley Road\, 122 Daley Rd\, East Chatham\, 12060\, United States
CATEGORIES:Vacation Camp
END:VEVENT
BEGIN:VEVENT
DTSTART;TZID=America/New_York:20260219T090000
DTEND;TZID=America/New_York:20260219T150000
DTSTAMP:20260424T114233
CREATED:20251110T183522Z
LAST-MODIFIED:20251110T183522Z
UID:10003706-1771491600-1771513200@flyingdeernaturecenter.org
SUMMARY:Snowshoe Hare Vacation Camp
DESCRIPTION:
URL:https://flyingdeernaturecenter.org/event/snowshoe-hare-vacation-camp-6/2026-02-19/
LOCATION:Daley Road\, 122 Daley Rd\, East Chatham\, 12060\, United States
CATEGORIES:Vacation Camp
END:VEVENT
BEGIN:VEVENT
DTSTART;TZID=America/New_York:20260220T090000
DTEND;TZID=America/New_York:20260220T150000
DTSTAMP:20260424T114233
CREATED:20251110T183522Z
LAST-MODIFIED:20251110T183522Z
UID:10003707-1771578000-1771599600@flyingdeernaturecenter.org
SUMMARY:Snowshoe Hare Vacation Camp
DESCRIPTION:
URL:https://flyingdeernaturecenter.org/event/snowshoe-hare-vacation-camp-6/2026-02-20/
LOCATION:Daley Road\, 122 Daley Rd\, East Chatham\, 12060\, United States
CATEGORIES:Vacation Camp
END:VEVENT
BEGIN:VEVENT
DTSTART;TZID=America/New_York:20260221T090000
DTEND;TZID=America/New_York:20260221T150000
DTSTAMP:20260424T114233
CREATED:20220510T192144Z
LAST-MODIFIED:20250728T173920Z
UID:10002586-1771664400-1771686000@flyingdeernaturecenter.org
SUMMARY:Saturday Explorers (Sheffield\, MA)
DESCRIPTION:
URL:https://flyingdeernaturecenter.org/event/saturday-explorers-at-the-cobble-4/2026-02-21/
CATEGORIES:Saturday Explorers
END:VEVENT
BEGIN:VEVENT
DTSTART;TZID=America/New_York:20260221T100000
DTEND;TZID=America/New_York:20260221T160000
DTSTAMP:20260424T114233
CREATED:20250806T040817Z
LAST-MODIFIED:20250806T041143Z
UID:10003566-1771668000-1771689600@flyingdeernaturecenter.org
SUMMARY:Program in East Chatham
DESCRIPTION:
URL:https://flyingdeernaturecenter.org/event/program-in-east-chatham-5/
CATEGORIES:Saturday Explorers
END:VEVENT
END:VCALENDAR