BEGIN:VCALENDAR
VERSION:2.0
PRODID:-//Flying Deer Nature Center - ECPv6.15.20//NONSGML v1.0//EN
CALSCALE:GREGORIAN
METHOD:PUBLISH
X-ORIGINAL-URL:https://flyingdeernaturecenter.org
X-WR-CALDESC:Events for Flying Deer Nature Center
REFRESH-INTERVAL;VALUE=DURATION:PT1H
X-Robots-Tag:noindex
X-PUBLISHED-TTL:PT1H
BEGIN:VTIMEZONE
TZID:America/New_York
BEGIN:DAYLIGHT
TZOFFSETFROM:-0500
TZOFFSETTO:-0400
TZNAME:EDT
DTSTART:20240310T070000
END:DAYLIGHT
BEGIN:STANDARD
TZOFFSETFROM:-0400
TZOFFSETTO:-0500
TZNAME:EST
DTSTART:20241103T060000
END:STANDARD
BEGIN:DAYLIGHT
TZOFFSETFROM:-0500
TZOFFSETTO:-0400
TZNAME:EDT
DTSTART:20250309T070000
END:DAYLIGHT
BEGIN:STANDARD
TZOFFSETFROM:-0400
TZOFFSETTO:-0500
TZNAME:EST
DTSTART:20251102T060000
END:STANDARD
BEGIN:DAYLIGHT
TZOFFSETFROM:-0500
TZOFFSETTO:-0400
TZNAME:EDT
DTSTART:20260308T070000
END:DAYLIGHT
BEGIN:STANDARD
TZOFFSETFROM:-0400
TZOFFSETTO:-0500
TZNAME:EST
DTSTART:20261101T060000
END:STANDARD
END:VTIMEZONE
BEGIN:VEVENT
DTSTART;TZID=America/New_York:20251001T090000
DTEND;TZID=America/New_York:20251001T150000
DTSTAMP:20260424T181738
CREATED:20250806T025047Z
LAST-MODIFIED:20250806T025250Z
UID:10003139-1759309200-1759330800@flyingdeernaturecenter.org
SUMMARY:FOREST Homeschool Program
DESCRIPTION:
URL:https://flyingdeernaturecenter.org/event/forest-homeschool-program-23/2025-10-01/
CATEGORIES:Homeschool
END:VEVENT
BEGIN:VEVENT
DTSTART;TZID=America/New_York:20251001T090000
DTEND;TZID=America/New_York:20251001T150000
DTSTAMP:20260424T181738
CREATED:20250806T025914Z
LAST-MODIFIED:20250806T030001Z
UID:10003176-1759309200-1759330800@flyingdeernaturecenter.org
SUMMARY:Forest K in East Chatham
DESCRIPTION:
URL:https://flyingdeernaturecenter.org/event/forest-k-in-east-chatham-2/2025-10-01/
LOCATION:Daley Road\, 122 Daley Rd\, East Chatham\, 12060\, United States
CATEGORIES:Forest Kindergarten
END:VEVENT
BEGIN:VEVENT
DTSTART;TZID=America/New_York:20251002T090000
DTEND;TZID=America/New_York:20251002T150000
DTSTAMP:20260424T181738
CREATED:20250806T025412Z
LAST-MODIFIED:20250806T025412Z
UID:10003151-1759395600-1759417200@flyingdeernaturecenter.org
SUMMARY:FOREST Homeschool Program
DESCRIPTION:
URL:https://flyingdeernaturecenter.org/event/forest-homeschool-program-24/2025-10-02/
CATEGORIES:Homeschool
END:VEVENT
BEGIN:VEVENT
DTSTART;TZID=America/New_York:20251002T090000
DTEND;TZID=America/New_York:20251002T150000
DTSTAMP:20260424T181738
CREATED:20250806T030217Z
LAST-MODIFIED:20250806T030217Z
UID:10003430-1759395600-1759417200@flyingdeernaturecenter.org
SUMMARY:Forest K in East Chatham
DESCRIPTION:
URL:https://flyingdeernaturecenter.org/event/forest-k-in-east-chatham-3/2025-10-02/
CATEGORIES:Forest Kindergarten
END:VEVENT
BEGIN:VEVENT
DTSTART;TZID=America/New_York:20251003T090000
DTEND;TZID=America/New_York:20251003T130000
DTSTAMP:20260424T181738
CREATED:20250806T024655Z
LAST-MODIFIED:20250806T030441Z
UID:10002618-1759482000-1759496400@flyingdeernaturecenter.org
SUMMARY:Forest K at the Cobble
DESCRIPTION:
URL:https://flyingdeernaturecenter.org/event/forest-k-at-the-cobble-10/2025-10-03/
LOCATION:Bartholomew’s Cobble\, 105 Weatogue Road\, Ashley Falls\, Sheffield\, MA\, 01257\, United States
CATEGORIES:Forest Kindergarten
END:VEVENT
BEGIN:VEVENT
DTSTART;TZID=America/New_York:20251003T090000
DTEND;TZID=America/New_York:20251003T150000
DTSTAMP:20260424T181738
CREATED:20250806T024543Z
LAST-MODIFIED:20250806T024543Z
UID:10002605-1759482000-1759503600@flyingdeernaturecenter.org
SUMMARY:Cobblers Homeschool Program
DESCRIPTION:
URL:https://flyingdeernaturecenter.org/event/cobblers-homeschool-program-13/2025-10-03/
LOCATION:Bartholomew’s Cobble\, 105 Weatogue Road\, Ashley Falls\, Sheffield\, MA\, 01257\, United States
CATEGORIES:Homeschool
END:VEVENT
BEGIN:VEVENT
DTSTART;TZID=America/New_York:20251004T100000
DTEND;TZID=America/New_York:20251004T160000
DTSTAMP:20260424T181738
CREATED:20250930T181611Z
LAST-MODIFIED:20250930T181611Z
UID:10003658-1759572000-1759593600@flyingdeernaturecenter.org
SUMMARY:Luna Moth (First Years Only)
DESCRIPTION:
URL:https://flyingdeernaturecenter.org/event/luna-moth-first-years-only/
CATEGORIES:Rites of Passage
END:VEVENT
BEGIN:VEVENT
DTSTART;TZID=America/New_York:20251004T103000
DTEND;TZID=America/New_York:20251005T120000
DTSTAMP:20260424T181738
CREATED:20251001T180056Z
LAST-MODIFIED:20251001T180056Z
UID:10003659-1759573800-1759665600@flyingdeernaturecenter.org
SUMMARY:Sacred Fire Opening Weekend Campout
DESCRIPTION:
URL:https://flyingdeernaturecenter.org/event/sacred-fire-opening-weekend-campout/
LOCATION:Daley Road\, 122 Daley Rd\, East Chatham\, 12060\, United States
CATEGORIES:Rites of Passage
END:VEVENT
BEGIN:VEVENT
DTSTART;TZID=America/New_York:20251006T090000
DTEND;TZID=America/New_York:20251006T150000
DTSTAMP:20260424T181738
CREATED:20250806T023228Z
LAST-MODIFIED:20250806T024217Z
UID:10002594-1759741200-1759762800@flyingdeernaturecenter.org
SUMMARY:Wild Ways Teen Program
DESCRIPTION:
URL:https://flyingdeernaturecenter.org/event/wild-ways/2025-10-06/
CATEGORIES:Homeschool
END:VEVENT
BEGIN:VEVENT
DTSTART;TZID=America/New_York:20251007T090000
DTEND;TZID=America/New_York:20251007T150000
DTSTAMP:20260424T181738
CREATED:20250806T025647Z
LAST-MODIFIED:20250806T030646Z
UID:10003164-1759827600-1759849200@flyingdeernaturecenter.org
SUMMARY:Forest K in East Chatham
DESCRIPTION:
URL:https://flyingdeernaturecenter.org/event/forest-kindergarten/2025-10-07/
LOCATION:Daley Road\, 122 Daley Rd\, East Chatham\, 12060\, United States
CATEGORIES:Forest Kindergarten
END:VEVENT
BEGIN:VEVENT
DTSTART;TZID=America/New_York:20251007T090000
DTEND;TZID=America/New_York:20251007T150000
DTSTAMP:20260424T181738
CREATED:20251014T160108Z
LAST-MODIFIED:20251014T160108Z
UID:10003674-1759827600-1759849200@flyingdeernaturecenter.org
SUMMARY:Treetop
DESCRIPTION:
URL:https://flyingdeernaturecenter.org/event/treetop-5/
LOCATION:Daley Road\, 122 Daley Rd\, East Chatham\, 12060\, United States
CATEGORIES:Homeschool
END:VEVENT
BEGIN:VEVENT
DTSTART;TZID=America/New_York:20251008T090000
DTEND;TZID=America/New_York:20251008T150000
DTSTAMP:20260424T181738
CREATED:20250806T025047Z
LAST-MODIFIED:20250806T025250Z
UID:10003140-1759914000-1759935600@flyingdeernaturecenter.org
SUMMARY:FOREST Homeschool Program
DESCRIPTION:
URL:https://flyingdeernaturecenter.org/event/forest-homeschool-program-23/2025-10-08/
CATEGORIES:Homeschool
END:VEVENT
BEGIN:VEVENT
DTSTART;TZID=America/New_York:20251008T090000
DTEND;TZID=America/New_York:20251008T150000
DTSTAMP:20260424T181738
CREATED:20250806T025914Z
LAST-MODIFIED:20250806T030001Z
UID:10003177-1759914000-1759935600@flyingdeernaturecenter.org
SUMMARY:Forest K in East Chatham
DESCRIPTION:
URL:https://flyingdeernaturecenter.org/event/forest-k-in-east-chatham-2/2025-10-08/
LOCATION:Daley Road\, 122 Daley Rd\, East Chatham\, 12060\, United States
CATEGORIES:Forest Kindergarten
END:VEVENT
BEGIN:VEVENT
DTSTART;TZID=America/New_York:20251009T090000
DTEND;TZID=America/New_York:20251009T150000
DTSTAMP:20260424T181738
CREATED:20250806T025412Z
LAST-MODIFIED:20250806T025412Z
UID:10003152-1760000400-1760022000@flyingdeernaturecenter.org
SUMMARY:FOREST Homeschool Program
DESCRIPTION:
URL:https://flyingdeernaturecenter.org/event/forest-homeschool-program-24/2025-10-09/
CATEGORIES:Homeschool
END:VEVENT
BEGIN:VEVENT
DTSTART;TZID=America/New_York:20251009T090000
DTEND;TZID=America/New_York:20251009T150000
DTSTAMP:20260424T181738
CREATED:20250806T030217Z
LAST-MODIFIED:20250806T030217Z
UID:10003431-1760000400-1760022000@flyingdeernaturecenter.org
SUMMARY:Forest K in East Chatham
DESCRIPTION:
URL:https://flyingdeernaturecenter.org/event/forest-k-in-east-chatham-3/2025-10-09/
CATEGORIES:Forest Kindergarten
END:VEVENT
BEGIN:VEVENT
DTSTART;TZID=America/New_York:20251010T090000
DTEND;TZID=America/New_York:20251010T130000
DTSTAMP:20260424T181738
CREATED:20250806T024655Z
LAST-MODIFIED:20250806T030441Z
UID:10002619-1760086800-1760101200@flyingdeernaturecenter.org
SUMMARY:Forest K at the Cobble
DESCRIPTION:
URL:https://flyingdeernaturecenter.org/event/forest-k-at-the-cobble-10/2025-10-10/
LOCATION:Bartholomew’s Cobble\, 105 Weatogue Road\, Ashley Falls\, Sheffield\, MA\, 01257\, United States
CATEGORIES:Forest Kindergarten
END:VEVENT
BEGIN:VEVENT
DTSTART;TZID=America/New_York:20251010T090000
DTEND;TZID=America/New_York:20251010T150000
DTSTAMP:20260424T181738
CREATED:20250806T024543Z
LAST-MODIFIED:20250806T024543Z
UID:10002606-1760086800-1760108400@flyingdeernaturecenter.org
SUMMARY:Cobblers Homeschool Program
DESCRIPTION:
URL:https://flyingdeernaturecenter.org/event/cobblers-homeschool-program-13/2025-10-10/
LOCATION:Bartholomew’s Cobble\, 105 Weatogue Road\, Ashley Falls\, Sheffield\, MA\, 01257\, United States
CATEGORIES:Homeschool
END:VEVENT
BEGIN:VEVENT
DTSTART;TZID=America/New_York:20251014T090000
DTEND;TZID=America/New_York:20251014T150000
DTSTAMP:20260424T181738
CREATED:20250806T025647Z
LAST-MODIFIED:20250806T030646Z
UID:10003165-1760432400-1760454000@flyingdeernaturecenter.org
SUMMARY:Forest K in East Chatham
DESCRIPTION:
URL:https://flyingdeernaturecenter.org/event/forest-kindergarten/2025-10-14/
LOCATION:Daley Road\, 122 Daley Rd\, East Chatham\, 12060\, United States
CATEGORIES:Forest Kindergarten
END:VEVENT
BEGIN:VEVENT
DTSTART;TZID=America/New_York:20251014T090000
DTEND;TZID=America/New_York:20251014T150000
DTSTAMP:20260424T181738
CREATED:20251014T160108Z
LAST-MODIFIED:20251014T160108Z
UID:10003675-1760432400-1760454000@flyingdeernaturecenter.org
SUMMARY:Treetop
DESCRIPTION:
URL:https://flyingdeernaturecenter.org/event/treetop-6/
LOCATION:Daley Road\, 122 Daley Rd\, East Chatham\, 12060\, United States
CATEGORIES:Homeschool
END:VEVENT
BEGIN:VEVENT
DTSTART;TZID=America/New_York:20251015T090000
DTEND;TZID=America/New_York:20251015T150000
DTSTAMP:20260424T181738
CREATED:20250806T025047Z
LAST-MODIFIED:20250806T025250Z
UID:10003141-1760518800-1760540400@flyingdeernaturecenter.org
SUMMARY:FOREST Homeschool Program
DESCRIPTION:
URL:https://flyingdeernaturecenter.org/event/forest-homeschool-program-23/2025-10-15/
CATEGORIES:Homeschool
END:VEVENT
BEGIN:VEVENT
DTSTART;TZID=America/New_York:20251015T090000
DTEND;TZID=America/New_York:20251015T150000
DTSTAMP:20260424T181738
CREATED:20250806T025914Z
LAST-MODIFIED:20250806T030001Z
UID:10003178-1760518800-1760540400@flyingdeernaturecenter.org
SUMMARY:Forest K in East Chatham
DESCRIPTION:
URL:https://flyingdeernaturecenter.org/event/forest-k-in-east-chatham-2/2025-10-15/
LOCATION:Daley Road\, 122 Daley Rd\, East Chatham\, 12060\, United States
CATEGORIES:Forest Kindergarten
END:VEVENT
BEGIN:VEVENT
DTSTART;TZID=America/New_York:20251016T090000
DTEND;TZID=America/New_York:20251016T150000
DTSTAMP:20260424T181738
CREATED:20250806T025412Z
LAST-MODIFIED:20250806T025412Z
UID:10003153-1760605200-1760626800@flyingdeernaturecenter.org
SUMMARY:FOREST Homeschool Program
DESCRIPTION:
URL:https://flyingdeernaturecenter.org/event/forest-homeschool-program-24/2025-10-16/
CATEGORIES:Homeschool
END:VEVENT
BEGIN:VEVENT
DTSTART;TZID=America/New_York:20251016T090000
DTEND;TZID=America/New_York:20251016T150000
DTSTAMP:20260424T181738
CREATED:20250806T030217Z
LAST-MODIFIED:20250806T030217Z
UID:10003432-1760605200-1760626800@flyingdeernaturecenter.org
SUMMARY:Forest K in East Chatham
DESCRIPTION:
URL:https://flyingdeernaturecenter.org/event/forest-k-in-east-chatham-3/2025-10-16/
CATEGORIES:Forest Kindergarten
END:VEVENT
BEGIN:VEVENT
DTSTART;TZID=America/New_York:20251017T090000
DTEND;TZID=America/New_York:20251017T130000
DTSTAMP:20260424T181738
CREATED:20250806T024655Z
LAST-MODIFIED:20250806T030441Z
UID:10002620-1760691600-1760706000@flyingdeernaturecenter.org
SUMMARY:Forest K at the Cobble
DESCRIPTION:
URL:https://flyingdeernaturecenter.org/event/forest-k-at-the-cobble-10/2025-10-17/
LOCATION:Bartholomew’s Cobble\, 105 Weatogue Road\, Ashley Falls\, Sheffield\, MA\, 01257\, United States
CATEGORIES:Forest Kindergarten
END:VEVENT
BEGIN:VEVENT
DTSTART;TZID=America/New_York:20251017T090000
DTEND;TZID=America/New_York:20251017T150000
DTSTAMP:20260424T181738
CREATED:20250806T024543Z
LAST-MODIFIED:20250806T024543Z
UID:10002607-1760691600-1760713200@flyingdeernaturecenter.org
SUMMARY:Cobblers Homeschool Program
DESCRIPTION:
URL:https://flyingdeernaturecenter.org/event/cobblers-homeschool-program-13/2025-10-17/
LOCATION:Bartholomew’s Cobble\, 105 Weatogue Road\, Ashley Falls\, Sheffield\, MA\, 01257\, United States
CATEGORIES:Homeschool
END:VEVENT
BEGIN:VEVENT
DTSTART;TZID=America/New_York:20251018T090000
DTEND;TZID=America/New_York:20251018T150000
DTSTAMP:20260424T181738
CREATED:20220510T192144Z
LAST-MODIFIED:20250728T173920Z
UID:10002581-1760778000-1760799600@flyingdeernaturecenter.org
SUMMARY:Saturday Explorers (Sheffield\, MA)
DESCRIPTION:
URL:https://flyingdeernaturecenter.org/event/saturday-explorers-at-the-cobble-4/2025-10-18/
CATEGORIES:Saturday Explorers
END:VEVENT
BEGIN:VEVENT
DTSTART;TZID=America/New_York:20251018T100000
DTEND;TZID=America/New_York:20251018T160000
DTSTAMP:20260424T181738
CREATED:20250806T035952Z
LAST-MODIFIED:20250806T035952Z
UID:10003562-1760781600-1760803200@flyingdeernaturecenter.org
SUMMARY:Program in East Chatham
DESCRIPTION:
URL:https://flyingdeernaturecenter.org/event/program-in-east-chatham/
LOCATION:Daley Road\, 122 Daley Rd\, East Chatham\, 12060\, United States
CATEGORIES:Saturday Explorers
END:VEVENT
BEGIN:VEVENT
DTSTART;TZID=America/New_York:20251020T090000
DTEND;TZID=America/New_York:20251020T150000
DTSTAMP:20260424T181738
CREATED:20250806T023228Z
LAST-MODIFIED:20250806T024217Z
UID:10002595-1760950800-1760972400@flyingdeernaturecenter.org
SUMMARY:Wild Ways Teen Program
DESCRIPTION:
URL:https://flyingdeernaturecenter.org/event/wild-ways/2025-10-20/
CATEGORIES:Homeschool
END:VEVENT
BEGIN:VEVENT
DTSTART;TZID=America/New_York:20251021T090000
DTEND;TZID=America/New_York:20251021T150000
DTSTAMP:20260424T181738
CREATED:20250806T025647Z
LAST-MODIFIED:20250806T030646Z
UID:10003166-1761037200-1761058800@flyingdeernaturecenter.org
SUMMARY:Forest K in East Chatham
DESCRIPTION:
URL:https://flyingdeernaturecenter.org/event/forest-kindergarten/2025-10-21/
LOCATION:Daley Road\, 122 Daley Rd\, East Chatham\, 12060\, United States
CATEGORIES:Forest Kindergarten
END:VEVENT
BEGIN:VEVENT
DTSTART;TZID=America/New_York:20251021T090000
DTEND;TZID=America/New_York:20251021T150000
DTSTAMP:20260424T181738
CREATED:20251014T160111Z
LAST-MODIFIED:20251014T160111Z
UID:10003676-1761037200-1761058800@flyingdeernaturecenter.org
SUMMARY:Treetop
DESCRIPTION:
URL:https://flyingdeernaturecenter.org/event/treetop-7/
LOCATION:Daley Road\, 122 Daley Rd\, East Chatham\, 12060\, United States
CATEGORIES:Homeschool
END:VEVENT
END:VCALENDAR