BEGIN:VCALENDAR
VERSION:2.0
PRODID:-//Flying Deer Nature Center - ECPv6.15.20//NONSGML v1.0//EN
CALSCALE:GREGORIAN
METHOD:PUBLISH
X-ORIGINAL-URL:https://flyingdeernaturecenter.org
X-WR-CALDESC:Events for Flying Deer Nature Center
REFRESH-INTERVAL;VALUE=DURATION:PT1H
X-Robots-Tag:noindex
X-PUBLISHED-TTL:PT1H
BEGIN:VTIMEZONE
TZID:America/New_York
BEGIN:DAYLIGHT
TZOFFSETFROM:-0500
TZOFFSETTO:-0400
TZNAME:EDT
DTSTART:20240310T070000
END:DAYLIGHT
BEGIN:STANDARD
TZOFFSETFROM:-0400
TZOFFSETTO:-0500
TZNAME:EST
DTSTART:20241103T060000
END:STANDARD
BEGIN:DAYLIGHT
TZOFFSETFROM:-0500
TZOFFSETTO:-0400
TZNAME:EDT
DTSTART:20250309T070000
END:DAYLIGHT
BEGIN:STANDARD
TZOFFSETFROM:-0400
TZOFFSETTO:-0500
TZNAME:EST
DTSTART:20251102T060000
END:STANDARD
BEGIN:DAYLIGHT
TZOFFSETFROM:-0500
TZOFFSETTO:-0400
TZNAME:EDT
DTSTART:20260308T070000
END:DAYLIGHT
BEGIN:STANDARD
TZOFFSETFROM:-0400
TZOFFSETTO:-0500
TZNAME:EST
DTSTART:20261101T060000
END:STANDARD
END:VTIMEZONE
BEGIN:VEVENT
DTSTART;VALUE=DATE:20250913
DTEND;VALUE=DATE:20250915
DTSTAMP:20260424T200202
CREATED:20250806T022853Z
LAST-MODIFIED:20250806T022853Z
UID:10002590-1757721600-1757894399@flyingdeernaturecenter.org
SUMMARY:Luna Moth Opening Weekend
DESCRIPTION:
URL:https://flyingdeernaturecenter.org/event/luna-moth-opening-weekend-3/
LOCATION:Daley Road\, 122 Daley Rd\, East Chatham\, 12060\, United States
CATEGORIES:Rites of Passage
END:VEVENT
BEGIN:VEVENT
DTSTART;TZID=America/New_York:20250915T090000
DTEND;TZID=America/New_York:20250915T150000
DTSTAMP:20260424T200202
CREATED:20250806T023228Z
LAST-MODIFIED:20250806T024217Z
UID:10002591-1757926800-1757948400@flyingdeernaturecenter.org
SUMMARY:Wild Ways Teen Program
DESCRIPTION:
URL:https://flyingdeernaturecenter.org/event/wild-ways/2025-09-15/
CATEGORIES:Homeschool
END:VEVENT
BEGIN:VEVENT
DTSTART;TZID=America/New_York:20250916T090000
DTEND;TZID=America/New_York:20250916T150000
DTSTAMP:20260424T200202
CREATED:20250806T025647Z
LAST-MODIFIED:20250806T030646Z
UID:10003161-1758013200-1758034800@flyingdeernaturecenter.org
SUMMARY:Forest K in East Chatham
DESCRIPTION:
URL:https://flyingdeernaturecenter.org/event/forest-kindergarten/2025-09-16/
LOCATION:Daley Road\, 122 Daley Rd\, East Chatham\, 12060\, United States
CATEGORIES:Forest Kindergarten
END:VEVENT
BEGIN:VEVENT
DTSTART;TZID=America/New_York:20250916T090000
DTEND;TZID=America/New_York:20250916T150000
DTSTAMP:20260424T200202
CREATED:20251014T160106Z
LAST-MODIFIED:20251014T160106Z
UID:10003671-1758013200-1758034800@flyingdeernaturecenter.org
SUMMARY:Treetop
DESCRIPTION:
URL:https://flyingdeernaturecenter.org/event/treetop-2/
LOCATION:Daley Road\, 122 Daley Rd\, East Chatham\, 12060\, United States
CATEGORIES:Homeschool
END:VEVENT
BEGIN:VEVENT
DTSTART;TZID=America/New_York:20250917T090000
DTEND;TZID=America/New_York:20250917T150000
DTSTAMP:20260424T200202
CREATED:20250806T025047Z
LAST-MODIFIED:20250806T025250Z
UID:10003137-1758099600-1758121200@flyingdeernaturecenter.org
SUMMARY:FOREST Homeschool Program
DESCRIPTION:
URL:https://flyingdeernaturecenter.org/event/forest-homeschool-program-23/2025-09-17/
CATEGORIES:Homeschool
END:VEVENT
BEGIN:VEVENT
DTSTART;TZID=America/New_York:20250917T090000
DTEND;TZID=America/New_York:20250917T150000
DTSTAMP:20260424T200202
CREATED:20250806T025914Z
LAST-MODIFIED:20250806T030001Z
UID:10003174-1758099600-1758121200@flyingdeernaturecenter.org
SUMMARY:Forest K in East Chatham
DESCRIPTION:
URL:https://flyingdeernaturecenter.org/event/forest-k-in-east-chatham-2/2025-09-17/
LOCATION:Daley Road\, 122 Daley Rd\, East Chatham\, 12060\, United States
CATEGORIES:Forest Kindergarten
END:VEVENT
BEGIN:VEVENT
DTSTART;TZID=America/New_York:20250918T090000
DTEND;TZID=America/New_York:20250918T150000
DTSTAMP:20260424T200202
CREATED:20250806T025412Z
LAST-MODIFIED:20250806T025412Z
UID:10003149-1758186000-1758207600@flyingdeernaturecenter.org
SUMMARY:FOREST Homeschool Program
DESCRIPTION:
URL:https://flyingdeernaturecenter.org/event/forest-homeschool-program-24/2025-09-18/
CATEGORIES:Homeschool
END:VEVENT
BEGIN:VEVENT
DTSTART;TZID=America/New_York:20250918T090000
DTEND;TZID=America/New_York:20250918T150000
DTSTAMP:20260424T200202
CREATED:20250806T030217Z
LAST-MODIFIED:20250806T030217Z
UID:10003428-1758186000-1758207600@flyingdeernaturecenter.org
SUMMARY:Forest K in East Chatham
DESCRIPTION:
URL:https://flyingdeernaturecenter.org/event/forest-k-in-east-chatham-3/2025-09-18/
CATEGORIES:Forest Kindergarten
END:VEVENT
BEGIN:VEVENT
DTSTART;TZID=America/New_York:20250919T090000
DTEND;TZID=America/New_York:20250919T130000
DTSTAMP:20260424T200202
CREATED:20250806T024655Z
LAST-MODIFIED:20250806T030441Z
UID:10002616-1758272400-1758286800@flyingdeernaturecenter.org
SUMMARY:Forest K at the Cobble
DESCRIPTION:
URL:https://flyingdeernaturecenter.org/event/forest-k-at-the-cobble-10/2025-09-19/
LOCATION:Bartholomew’s Cobble\, 105 Weatogue Road\, Ashley Falls\, Sheffield\, MA\, 01257\, United States
CATEGORIES:Forest Kindergarten
END:VEVENT
BEGIN:VEVENT
DTSTART;TZID=America/New_York:20250919T090000
DTEND;TZID=America/New_York:20250919T150000
DTSTAMP:20260424T200202
CREATED:20250806T024543Z
LAST-MODIFIED:20250806T024543Z
UID:10002603-1758272400-1758294000@flyingdeernaturecenter.org
SUMMARY:Cobblers Homeschool Program
DESCRIPTION:
URL:https://flyingdeernaturecenter.org/event/cobblers-homeschool-program-13/2025-09-19/
LOCATION:Bartholomew’s Cobble\, 105 Weatogue Road\, Ashley Falls\, Sheffield\, MA\, 01257\, United States
CATEGORIES:Homeschool
END:VEVENT
BEGIN:VEVENT
DTSTART;TZID=America/New_York:20250920T090000
DTEND;TZID=America/New_York:20250920T150000
DTSTAMP:20260424T200202
CREATED:20220510T192144Z
LAST-MODIFIED:20250728T173920Z
UID:10002584-1758358800-1758380400@flyingdeernaturecenter.org
SUMMARY:Saturday Explorers (Sheffield\, MA)
DESCRIPTION:
URL:https://flyingdeernaturecenter.org/event/saturday-explorers-at-the-cobble-4/2025-09-20/
CATEGORIES:Saturday Explorers
END:VEVENT
BEGIN:VEVENT
DTSTART;TZID=America/New_York:20250922T090000
DTEND;TZID=America/New_York:20250922T150000
DTSTAMP:20260424T200202
CREATED:20250806T023228Z
LAST-MODIFIED:20250806T024217Z
UID:10002592-1758531600-1758553200@flyingdeernaturecenter.org
SUMMARY:Wild Ways Teen Program
DESCRIPTION:
URL:https://flyingdeernaturecenter.org/event/wild-ways/2025-09-22/
CATEGORIES:Homeschool
END:VEVENT
BEGIN:VEVENT
DTSTART;TZID=America/New_York:20250923T090000
DTEND;TZID=America/New_York:20250923T150000
DTSTAMP:20260424T200202
CREATED:20250806T025647Z
LAST-MODIFIED:20250806T030646Z
UID:10003162-1758618000-1758639600@flyingdeernaturecenter.org
SUMMARY:Forest K in East Chatham
DESCRIPTION:
URL:https://flyingdeernaturecenter.org/event/forest-kindergarten/2025-09-23/
LOCATION:Daley Road\, 122 Daley Rd\, East Chatham\, 12060\, United States
CATEGORIES:Forest Kindergarten
END:VEVENT
BEGIN:VEVENT
DTSTART;TZID=America/New_York:20250923T090000
DTEND;TZID=America/New_York:20250923T150000
DTSTAMP:20260424T200202
CREATED:20251014T160107Z
LAST-MODIFIED:20251014T160107Z
UID:10003672-1758618000-1758639600@flyingdeernaturecenter.org
SUMMARY:Treetop
DESCRIPTION:
URL:https://flyingdeernaturecenter.org/event/treetop-3/
LOCATION:Daley Road\, 122 Daley Rd\, East Chatham\, 12060\, United States
CATEGORIES:Homeschool
END:VEVENT
BEGIN:VEVENT
DTSTART;TZID=America/New_York:20250924T090000
DTEND;TZID=America/New_York:20250924T150000
DTSTAMP:20260424T200202
CREATED:20250806T025047Z
LAST-MODIFIED:20250806T025250Z
UID:10003138-1758704400-1758726000@flyingdeernaturecenter.org
SUMMARY:FOREST Homeschool Program
DESCRIPTION:
URL:https://flyingdeernaturecenter.org/event/forest-homeschool-program-23/2025-09-24/
CATEGORIES:Homeschool
END:VEVENT
BEGIN:VEVENT
DTSTART;TZID=America/New_York:20250924T090000
DTEND;TZID=America/New_York:20250924T150000
DTSTAMP:20260424T200202
CREATED:20250806T025914Z
LAST-MODIFIED:20250806T030001Z
UID:10003175-1758704400-1758726000@flyingdeernaturecenter.org
SUMMARY:Forest K in East Chatham
DESCRIPTION:
URL:https://flyingdeernaturecenter.org/event/forest-k-in-east-chatham-2/2025-09-24/
LOCATION:Daley Road\, 122 Daley Rd\, East Chatham\, 12060\, United States
CATEGORIES:Forest Kindergarten
END:VEVENT
BEGIN:VEVENT
DTSTART;TZID=America/New_York:20250925T090000
DTEND;TZID=America/New_York:20250925T150000
DTSTAMP:20260424T200202
CREATED:20250806T025412Z
LAST-MODIFIED:20250806T025412Z
UID:10003150-1758790800-1758812400@flyingdeernaturecenter.org
SUMMARY:FOREST Homeschool Program
DESCRIPTION:
URL:https://flyingdeernaturecenter.org/event/forest-homeschool-program-24/2025-09-25/
CATEGORIES:Homeschool
END:VEVENT
BEGIN:VEVENT
DTSTART;TZID=America/New_York:20250925T090000
DTEND;TZID=America/New_York:20250925T150000
DTSTAMP:20260424T200202
CREATED:20250806T030217Z
LAST-MODIFIED:20250806T030217Z
UID:10003429-1758790800-1758812400@flyingdeernaturecenter.org
SUMMARY:Forest K in East Chatham
DESCRIPTION:
URL:https://flyingdeernaturecenter.org/event/forest-k-in-east-chatham-3/2025-09-25/
CATEGORIES:Forest Kindergarten
END:VEVENT
BEGIN:VEVENT
DTSTART;TZID=America/New_York:20250926T090000
DTEND;TZID=America/New_York:20250926T130000
DTSTAMP:20260424T200202
CREATED:20250806T024655Z
LAST-MODIFIED:20250806T030441Z
UID:10002617-1758877200-1758891600@flyingdeernaturecenter.org
SUMMARY:Forest K at the Cobble
DESCRIPTION:
URL:https://flyingdeernaturecenter.org/event/forest-k-at-the-cobble-10/2025-09-26/
LOCATION:Bartholomew’s Cobble\, 105 Weatogue Road\, Ashley Falls\, Sheffield\, MA\, 01257\, United States
CATEGORIES:Forest Kindergarten
END:VEVENT
BEGIN:VEVENT
DTSTART;TZID=America/New_York:20250926T090000
DTEND;TZID=America/New_York:20250926T150000
DTSTAMP:20260424T200202
CREATED:20250806T024543Z
LAST-MODIFIED:20250806T024543Z
UID:10002604-1758877200-1758898800@flyingdeernaturecenter.org
SUMMARY:Cobblers Homeschool Program
DESCRIPTION:
URL:https://flyingdeernaturecenter.org/event/cobblers-homeschool-program-13/2025-09-26/
LOCATION:Bartholomew’s Cobble\, 105 Weatogue Road\, Ashley Falls\, Sheffield\, MA\, 01257\, United States
CATEGORIES:Homeschool
END:VEVENT
BEGIN:VEVENT
DTSTART;TZID=America/New_York:20250927T090000
DTEND;TZID=America/New_York:20250927T150000
DTSTAMP:20260424T200202
CREATED:20240516T013129Z
LAST-MODIFIED:20250728T172645Z
UID:10002566-1758963600-1758985200@flyingdeernaturecenter.org
SUMMARY:Saturday Explorers (East Chatham\, NY)
DESCRIPTION:
URL:https://flyingdeernaturecenter.org/event/saturday-explorers-in-east-chatham-6/2025-09-27/
LOCATION:Daley Road\, 122 Daley Rd\, East Chatham\, 12060\, United States
CATEGORIES:Saturday Explorers
END:VEVENT
BEGIN:VEVENT
DTSTART;TZID=America/New_York:20250927T090000
DTEND;TZID=America/New_York:20250927T150000
DTSTAMP:20260424T200203
CREATED:20250806T041944Z
LAST-MODIFIED:20250806T041944Z
UID:10003570-1758963600-1758985200@flyingdeernaturecenter.org
SUMMARY:Awakening Wild
DESCRIPTION:
URL:https://flyingdeernaturecenter.org/event/awakening-wild-14/
LOCATION:Daley Road\, 122 Daley Rd\, East Chatham\, 12060\, United States
CATEGORIES:Adult & Teen Program
END:VEVENT
BEGIN:VEVENT
DTSTART;TZID=America/New_York:20250929T090000
DTEND;TZID=America/New_York:20250929T150000
DTSTAMP:20260424T200203
CREATED:20250806T023228Z
LAST-MODIFIED:20250806T024217Z
UID:10002593-1759136400-1759158000@flyingdeernaturecenter.org
SUMMARY:Wild Ways Teen Program
DESCRIPTION:
URL:https://flyingdeernaturecenter.org/event/wild-ways/2025-09-29/
CATEGORIES:Homeschool
END:VEVENT
BEGIN:VEVENT
DTSTART;TZID=America/New_York:20250930T090000
DTEND;TZID=America/New_York:20250930T150000
DTSTAMP:20260424T200203
CREATED:20250806T025647Z
LAST-MODIFIED:20250806T030646Z
UID:10003163-1759222800-1759244400@flyingdeernaturecenter.org
SUMMARY:Forest K in East Chatham
DESCRIPTION:
URL:https://flyingdeernaturecenter.org/event/forest-kindergarten/2025-09-30/
LOCATION:Daley Road\, 122 Daley Rd\, East Chatham\, 12060\, United States
CATEGORIES:Forest Kindergarten
END:VEVENT
BEGIN:VEVENT
DTSTART;TZID=America/New_York:20250930T090000
DTEND;TZID=America/New_York:20250930T150000
DTSTAMP:20260424T200203
CREATED:20251014T160107Z
LAST-MODIFIED:20251014T160107Z
UID:10003673-1759222800-1759244400@flyingdeernaturecenter.org
SUMMARY:Treetop
DESCRIPTION:
URL:https://flyingdeernaturecenter.org/event/treetop-4/
LOCATION:Daley Road\, 122 Daley Rd\, East Chatham\, 12060\, United States
CATEGORIES:Homeschool
END:VEVENT
END:VCALENDAR