BEGIN:VCALENDAR
VERSION:2.0
PRODID:-//Flying Deer Nature Center - ECPv6.15.20//NONSGML v1.0//EN
CALSCALE:GREGORIAN
METHOD:PUBLISH
X-ORIGINAL-URL:https://flyingdeernaturecenter.org
X-WR-CALDESC:Events for Flying Deer Nature Center
REFRESH-INTERVAL;VALUE=DURATION:PT1H
X-Robots-Tag:noindex
X-PUBLISHED-TTL:PT1H
BEGIN:VTIMEZONE
TZID:America/New_York
BEGIN:DAYLIGHT
TZOFFSETFROM:-0500
TZOFFSETTO:-0400
TZNAME:EDT
DTSTART:20240310T070000
END:DAYLIGHT
BEGIN:STANDARD
TZOFFSETFROM:-0400
TZOFFSETTO:-0500
TZNAME:EST
DTSTART:20241103T060000
END:STANDARD
BEGIN:DAYLIGHT
TZOFFSETFROM:-0500
TZOFFSETTO:-0400
TZNAME:EDT
DTSTART:20250309T070000
END:DAYLIGHT
BEGIN:STANDARD
TZOFFSETFROM:-0400
TZOFFSETTO:-0500
TZNAME:EST
DTSTART:20251102T060000
END:STANDARD
BEGIN:DAYLIGHT
TZOFFSETFROM:-0500
TZOFFSETTO:-0400
TZNAME:EDT
DTSTART:20260308T070000
END:DAYLIGHT
BEGIN:STANDARD
TZOFFSETFROM:-0400
TZOFFSETTO:-0500
TZNAME:EST
DTSTART:20261101T060000
END:STANDARD
END:VTIMEZONE
BEGIN:VEVENT
DTSTART;TZID=America/New_York:20250628T090000
DTEND;TZID=America/New_York:20250702T143000
DTSTAMP:20260425T001644
CREATED:20240909T172834Z
LAST-MODIFIED:20240909T172914Z
UID:10002480-1751101200-1751466600@flyingdeernaturecenter.org
SUMMARY:Sacred Fire
DESCRIPTION:
URL:https://flyingdeernaturecenter.org/event/sacred-fire-11/2025-06-28/
CATEGORIES:Rites of Passage
END:VEVENT
BEGIN:VEVENT
DTSTART;VALUE=DATE:20250630
DTEND;VALUE=DATE:20250705
DTSTAMP:20260425T001644
CREATED:20241220T005708Z
LAST-MODIFIED:20241220T005708Z
UID:10002547-1751241600-1751673599@flyingdeernaturecenter.org
SUMMARY:Cottonwood Camp Week 2
DESCRIPTION:
URL:https://flyingdeernaturecenter.org/event/cottonwood-camp-week-2-4/
LOCATION:Daley Road\, 122 Daley Rd\, East Chatham\, 12060\, United States
CATEGORIES:Summer — East Chatham
END:VEVENT
BEGIN:VEVENT
DTSTART;VALUE=DATE:20250707
DTEND;VALUE=DATE:20250712
DTSTAMP:20260425T001644
CREATED:20241220T005815Z
LAST-MODIFIED:20241220T005815Z
UID:10002548-1751846400-1752278399@flyingdeernaturecenter.org
SUMMARY:Cottonwood Camp Week 3
DESCRIPTION:
URL:https://flyingdeernaturecenter.org/event/cottonwood-camp-week-3-3/
LOCATION:Daley Road\, 122 Daley Rd\, East Chatham\, 12060\, United States
CATEGORIES:Summer — East Chatham
END:VEVENT
BEGIN:VEVENT
DTSTART;VALUE=DATE:20250707
DTEND;VALUE=DATE:20250712
DTSTAMP:20260425T001644
CREATED:20241220T010151Z
LAST-MODIFIED:20241220T010213Z
UID:10002550-1751846400-1752278399@flyingdeernaturecenter.org
SUMMARY:Bobolink Camp Week 1
DESCRIPTION:
URL:https://flyingdeernaturecenter.org/event/bobolink-camp/
LOCATION:Bartholomew’s Cobble\, 105 Weatogue Road\, Ashley Falls\, Sheffield\, MA\, 01257\, United States
END:VEVENT
BEGIN:VEVENT
DTSTART;VALUE=DATE:20250714
DTEND;VALUE=DATE:20250719
DTSTAMP:20260425T001644
CREATED:20241220T011110Z
LAST-MODIFIED:20241220T011110Z
UID:10002552-1752451200-1752883199@flyingdeernaturecenter.org
SUMMARY:Nature's Canvas Week 1
DESCRIPTION:
URL:https://flyingdeernaturecenter.org/event/natures-canvas-week-1-4/
LOCATION:Daley Road\, 122 Daley Rd\, East Chatham\, 12060\, United States
CATEGORIES:Summer — East Chatham
END:VEVENT
BEGIN:VEVENT
DTSTART;VALUE=DATE:20250714
DTEND;VALUE=DATE:20250719
DTSTAMP:20260425T001644
CREATED:20241220T033331Z
LAST-MODIFIED:20241220T033331Z
UID:10002554-1752451200-1752883199@flyingdeernaturecenter.org
SUMMARY:Run Wild Week 1
DESCRIPTION:
URL:https://flyingdeernaturecenter.org/event/run-wild-week-1-2/
CATEGORIES:Summer — The Abode
END:VEVENT
BEGIN:VEVENT
DTSTART;VALUE=DATE:20250715
DTEND;VALUE=DATE:20250720
DTSTAMP:20260425T001644
CREATED:20241026T172039Z
LAST-MODIFIED:20241026T172039Z
UID:10002543-1752537600-1752969599@flyingdeernaturecenter.org
SUMMARY:Luna Moth Graduation Week (3rd Years)
DESCRIPTION:
URL:https://flyingdeernaturecenter.org/event/luna-moth-graduation-week-3rd-years/
CATEGORIES:Rites of Passage
END:VEVENT
BEGIN:VEVENT
DTSTART;VALUE=DATE:20250721
DTEND;VALUE=DATE:20250726
DTSTAMP:20260425T001644
CREATED:20241220T011340Z
LAST-MODIFIED:20241220T011340Z
UID:10002553-1753056000-1753487999@flyingdeernaturecenter.org
SUMMARY:Nature's Canvas Week 2
DESCRIPTION:
URL:https://flyingdeernaturecenter.org/event/natures-canvas-week-2-5/
CATEGORIES:Summer — East Chatham
END:VEVENT
BEGIN:VEVENT
DTSTART;VALUE=DATE:20250721
DTEND;VALUE=DATE:20250726
DTSTAMP:20260425T001644
CREATED:20241220T033744Z
LAST-MODIFIED:20241220T033744Z
UID:10002556-1753056000-1753487999@flyingdeernaturecenter.org
SUMMARY:Foxfire
DESCRIPTION:
URL:https://flyingdeernaturecenter.org/event/foxfire-4/
CATEGORIES:Summer — East Chatham
END:VEVENT
BEGIN:VEVENT
DTSTART;VALUE=DATE:20250728
DTEND;VALUE=DATE:20250802
DTSTAMP:20260425T001644
CREATED:20241026T172208Z
LAST-MODIFIED:20241026T172208Z
UID:10002544-1753660800-1754092799@flyingdeernaturecenter.org
SUMMARY:Luna Moth Weeklong (1st and 2nd Years)
DESCRIPTION:
URL:https://flyingdeernaturecenter.org/event/luna-moth-weeklong-1st-and-2nd-years/
CATEGORIES:Rites of Passage
END:VEVENT
BEGIN:VEVENT
DTSTART;VALUE=DATE:20250728
DTEND;VALUE=DATE:20250802
DTSTAMP:20260425T001644
CREATED:20241220T010307Z
LAST-MODIFIED:20250629T190750Z
UID:10002551-1753660800-1754092799@flyingdeernaturecenter.org
SUMMARY:Bobolink Camp Week 2
DESCRIPTION:
URL:https://flyingdeernaturecenter.org/event/bobolink-camp-week-1-2/
LOCATION:Bartholomew’s Cobble\, 105 Weatogue Road\, Ashley Falls\, Sheffield\, MA\, 01257\, United States
END:VEVENT
BEGIN:VEVENT
DTSTART;VALUE=DATE:20250728
DTEND;VALUE=DATE:20250802
DTSTAMP:20260425T001644
CREATED:20241220T033426Z
LAST-MODIFIED:20241220T033426Z
UID:10002555-1753660800-1754092799@flyingdeernaturecenter.org
SUMMARY:Run Wild Week 2
DESCRIPTION:
URL:https://flyingdeernaturecenter.org/event/run-wild-week-2-2/
CATEGORIES:Summer — The Abode
END:VEVENT
END:VCALENDAR