BEGIN:VCALENDAR
VERSION:2.0
PRODID:-//Flying Deer Nature Center - ECPv6.15.20//NONSGML v1.0//EN
CALSCALE:GREGORIAN
METHOD:PUBLISH
X-ORIGINAL-URL:https://flyingdeernaturecenter.org
X-WR-CALDESC:Events for Flying Deer Nature Center
REFRESH-INTERVAL;VALUE=DURATION:PT1H
X-Robots-Tag:noindex
X-PUBLISHED-TTL:PT1H
BEGIN:VTIMEZONE
TZID:America/New_York
BEGIN:DAYLIGHT
TZOFFSETFROM:-0500
TZOFFSETTO:-0400
TZNAME:EDT
DTSTART:20250309T070000
END:DAYLIGHT
BEGIN:STANDARD
TZOFFSETFROM:-0400
TZOFFSETTO:-0500
TZNAME:EST
DTSTART:20251102T060000
END:STANDARD
BEGIN:DAYLIGHT
TZOFFSETFROM:-0500
TZOFFSETTO:-0400
TZNAME:EDT
DTSTART:20260308T070000
END:DAYLIGHT
BEGIN:STANDARD
TZOFFSETFROM:-0400
TZOFFSETTO:-0500
TZNAME:EST
DTSTART:20261101T060000
END:STANDARD
BEGIN:DAYLIGHT
TZOFFSETFROM:-0500
TZOFFSETTO:-0400
TZNAME:EDT
DTSTART:20270314T070000
END:DAYLIGHT
BEGIN:STANDARD
TZOFFSETFROM:-0400
TZOFFSETTO:-0500
TZNAME:EST
DTSTART:20271107T060000
END:STANDARD
END:VTIMEZONE
BEGIN:VEVENT
DTSTART;TZID=America/New_York:20260629T090000
DTEND;TZID=America/New_York:20260703T150000
DTSTAMP:20260423T042501
CREATED:20260204T174830Z
LAST-MODIFIED:20260204T181512Z
UID:10003790-1782723600-1783090800@flyingdeernaturecenter.org
SUMMARY:Run Wild Week 1
DESCRIPTION:
URL:https://flyingdeernaturecenter.org/event/run-wild-1/
LOCATION:New Lebanon\, 5 Abode Rd.\, New Lebanon\, NY\, 12125\, United States
CATEGORIES:Summer — The Abode
END:VEVENT
BEGIN:VEVENT
DTSTART;TZID=America/New_York:20260706T090000
DTEND;TZID=America/New_York:20260710T150000
DTSTAMP:20260423T042501
CREATED:20260204T174832Z
LAST-MODIFIED:20260204T184014Z
UID:10003792-1783328400-1783695600@flyingdeernaturecenter.org
SUMMARY:Run Wild Week 2
DESCRIPTION:
URL:https://flyingdeernaturecenter.org/event/run-wild-2/
LOCATION:New Lebanon\, 5 Abode Rd.\, New Lebanon\, NY\, 12125\, United States
CATEGORIES:Summer — The Abode
END:VEVENT
BEGIN:VEVENT
DTSTART;TZID=America/New_York:20260720T090000
DTEND;TZID=America/New_York:20260722T150000
DTSTAMP:20260423T042501
CREATED:20260204T174839Z
LAST-MODIFIED:20260204T184819Z
UID:10003796-1784538000-1784732400@flyingdeernaturecenter.org
SUMMARY:Crow Call
DESCRIPTION:
URL:https://flyingdeernaturecenter.org/event/crow-call-4/
LOCATION:New Lebanon\, 5 Abode Rd.\, New Lebanon\, NY\, 12125\, United States
CATEGORIES:Summer — The Abode
END:VEVENT
BEGIN:VEVENT
DTSTART;TZID=America/New_York:20260723T090000
DTEND;TZID=America/New_York:20260724T150000
DTSTAMP:20260423T042501
CREATED:20260204T174840Z
LAST-MODIFIED:20260204T184857Z
UID:10003797-1784797200-1784905200@flyingdeernaturecenter.org
SUMMARY:Crow Call Overnight
DESCRIPTION:
URL:https://flyingdeernaturecenter.org/event/crow-call-overnight/
LOCATION:New Lebanon\, 5 Abode Rd.\, New Lebanon\, NY\, 12125\, United States
CATEGORIES:Summer — The Abode
END:VEVENT
END:VCALENDAR