BEGIN:VCALENDAR
VERSION:2.0
PRODID:-//Flying Deer Nature Center - ECPv6.15.20//NONSGML v1.0//EN
CALSCALE:GREGORIAN
METHOD:PUBLISH
X-WR-CALNAME:Flying Deer Nature Center
X-ORIGINAL-URL:https://flyingdeernaturecenter.org
X-WR-CALDESC:Events for Flying Deer Nature Center
REFRESH-INTERVAL;VALUE=DURATION:PT1H
X-Robots-Tag:noindex
X-PUBLISHED-TTL:PT1H
BEGIN:VTIMEZONE
TZID:America/New_York
BEGIN:DAYLIGHT
TZOFFSETFROM:-0500
TZOFFSETTO:-0400
TZNAME:EDT
DTSTART:20240310T070000
END:DAYLIGHT
BEGIN:STANDARD
TZOFFSETFROM:-0400
TZOFFSETTO:-0500
TZNAME:EST
DTSTART:20241103T060000
END:STANDARD
BEGIN:DAYLIGHT
TZOFFSETFROM:-0500
TZOFFSETTO:-0400
TZNAME:EDT
DTSTART:20250309T070000
END:DAYLIGHT
BEGIN:STANDARD
TZOFFSETFROM:-0400
TZOFFSETTO:-0500
TZNAME:EST
DTSTART:20251102T060000
END:STANDARD
BEGIN:DAYLIGHT
TZOFFSETFROM:-0500
TZOFFSETTO:-0400
TZNAME:EDT
DTSTART:20260308T070000
END:DAYLIGHT
BEGIN:STANDARD
TZOFFSETFROM:-0400
TZOFFSETTO:-0500
TZNAME:EST
DTSTART:20261101T060000
END:STANDARD
END:VTIMEZONE
BEGIN:VEVENT
DTSTART;TZID=America/New_York:20250308T090000
DTEND;TZID=America/New_York:20250308T150000
DTSTAMP:20260425T075707
CREATED:20240516T015818Z
LAST-MODIFIED:20240516T015818Z
UID:10002232-1741424400-1741446000@flyingdeernaturecenter.org
SUMMARY:Saturday Explorers at the Cobble
DESCRIPTION:
URL:https://flyingdeernaturecenter.org/event/saturday-explorers-at-the-cobble-11/
LOCATION:Bartholomew’s Cobble\, 105 Weatogue Road\, Ashley Falls\, Sheffield\, MA\, 01257\, United States
CATEGORIES:Saturday Explorers
END:VEVENT
BEGIN:VEVENT
DTSTART;TZID=America/New_York:20250322T090000
DTEND;TZID=America/New_York:20250322T150000
DTSTAMP:20260425T075707
CREATED:20240516T021115Z
LAST-MODIFIED:20240516T021115Z
UID:10002236-1742634000-1742655600@flyingdeernaturecenter.org
SUMMARY:Saturday Explorers in East Chatham
DESCRIPTION:
URL:https://flyingdeernaturecenter.org/event/saturday-explorers-in-east-chatham-9/2025-03-22/
LOCATION:Daley Road\, 122 Daley Rd\, East Chatham\, 12060\, United States
CATEGORIES:Saturday Explorers
END:VEVENT
END:VCALENDAR