BEGIN:VCALENDAR
VERSION:2.0
PRODID:-//Flying Deer Nature Center - ECPv6.15.20//NONSGML v1.0//EN
CALSCALE:GREGORIAN
METHOD:PUBLISH
X-ORIGINAL-URL:https://flyingdeernaturecenter.org
X-WR-CALDESC:Events for Flying Deer Nature Center
REFRESH-INTERVAL;VALUE=DURATION:PT1H
X-Robots-Tag:noindex
X-PUBLISHED-TTL:PT1H
BEGIN:VTIMEZONE
TZID:America/New_York
BEGIN:DAYLIGHT
TZOFFSETFROM:-0500
TZOFFSETTO:-0400
TZNAME:EDT
DTSTART:20250309T070000
END:DAYLIGHT
BEGIN:STANDARD
TZOFFSETFROM:-0400
TZOFFSETTO:-0500
TZNAME:EST
DTSTART:20251102T060000
END:STANDARD
BEGIN:DAYLIGHT
TZOFFSETFROM:-0500
TZOFFSETTO:-0400
TZNAME:EDT
DTSTART:20260308T070000
END:DAYLIGHT
BEGIN:STANDARD
TZOFFSETFROM:-0400
TZOFFSETTO:-0500
TZNAME:EST
DTSTART:20261101T060000
END:STANDARD
BEGIN:DAYLIGHT
TZOFFSETFROM:-0500
TZOFFSETTO:-0400
TZNAME:EDT
DTSTART:20270314T070000
END:DAYLIGHT
BEGIN:STANDARD
TZOFFSETFROM:-0400
TZOFFSETTO:-0500
TZNAME:EST
DTSTART:20271107T060000
END:STANDARD
END:VTIMEZONE
BEGIN:VEVENT
DTSTART;TZID=America/New_York:20260627T090000
DTEND;TZID=America/New_York:20260701T143000
DTSTAMP:20260423T045302
CREATED:20251001T180104Z
LAST-MODIFIED:20251001T180104Z
UID:10003667-1782550800-1782916200@flyingdeernaturecenter.org
SUMMARY:Sacred Fire Initiation (Dogwoods)
DESCRIPTION:
URL:https://flyingdeernaturecenter.org/event/sacred-fire-initiation-dogwoods/
CATEGORIES:Rites of Passage
END:VEVENT
BEGIN:VEVENT
DTSTART;TZID=America/New_York:20260628T090000
DTEND;TZID=America/New_York:20260701T143000
DTSTAMP:20260423T045302
CREATED:20251001T180104Z
LAST-MODIFIED:20251001T180104Z
UID:10003668-1782637200-1782916200@flyingdeernaturecenter.org
SUMMARY:Sacred Fire Initiation (Buckskins)
DESCRIPTION:
URL:https://flyingdeernaturecenter.org/event/sacred-fire-initiation-buckskins/
CATEGORIES:Rites of Passage
END:VEVENT
BEGIN:VEVENT
DTSTART;TZID=America/New_York:20260628T170000
DTEND;TZID=America/New_York:20260701T143000
DTSTAMP:20260423T045302
CREATED:20251001T180116Z
LAST-MODIFIED:20251001T180116Z
UID:10003669-1782666000-1782916200@flyingdeernaturecenter.org
SUMMARY:Sacred Fire Initiation (Crayfish)
DESCRIPTION:
URL:https://flyingdeernaturecenter.org/event/sacred-fire-initiation-crayfish/
CATEGORIES:Rites of Passage
END:VEVENT
BEGIN:VEVENT
DTSTART;TZID=America/New_York:20260711T090000
DTEND;TZID=America/New_York:20260711T170000
DTSTAMP:20260423T045302
CREATED:20251001T180117Z
LAST-MODIFIED:20251001T180117Z
UID:10003670-1783760400-1783789200@flyingdeernaturecenter.org
SUMMARY:Sacred Fire Giveaway
DESCRIPTION:
URL:https://flyingdeernaturecenter.org/event/sacred-fire-giveaway-2/
CATEGORIES:Rites of Passage
END:VEVENT
BEGIN:VEVENT
DTSTART;VALUE=DATE:20260714
DTEND;VALUE=DATE:20260719
DTSTAMP:20260423T045302
CREATED:20250806T032341Z
LAST-MODIFIED:20250806T032341Z
UID:10003448-1783987200-1784419199@flyingdeernaturecenter.org
SUMMARY:Luna Moth: Graduation Week
DESCRIPTION:
URL:https://flyingdeernaturecenter.org/event/luna-moth-graduation-week-2/
LOCATION:Daley Road\, 122 Daley Rd\, East Chatham\, 12060\, United States
CATEGORIES:Rites of Passage
END:VEVENT
BEGIN:VEVENT
DTSTART;VALUE=DATE:20260727
DTEND;VALUE=DATE:20260801
DTSTAMP:20260423T045302
CREATED:20250806T032511Z
LAST-MODIFIED:20250806T032511Z
UID:10003449-1785110400-1785542399@flyingdeernaturecenter.org
SUMMARY:Luna Moth: 1st- & 2nd-Years Weeklong
DESCRIPTION:
URL:https://flyingdeernaturecenter.org/event/luna-moth-1st-2nd-years-weeklong/
LOCATION:Daley Road\, 122 Daley Rd\, East Chatham\, 12060\, United States
CATEGORIES:Rites of Passage
END:VEVENT
END:VCALENDAR