BEGIN:VCALENDAR
VERSION:2.0
PRODID:-//Flying Deer Nature Center - ECPv6.15.20//NONSGML v1.0//EN
CALSCALE:GREGORIAN
METHOD:PUBLISH
X-WR-CALNAME:Flying Deer Nature Center
X-ORIGINAL-URL:https://flyingdeernaturecenter.org
X-WR-CALDESC:Events for Flying Deer Nature Center
REFRESH-INTERVAL;VALUE=DURATION:PT1H
X-Robots-Tag:noindex
X-PUBLISHED-TTL:PT1H
BEGIN:VTIMEZONE
TZID:America/New_York
BEGIN:DAYLIGHT
TZOFFSETFROM:-0500
TZOFFSETTO:-0400
TZNAME:EDT
DTSTART:20250309T070000
END:DAYLIGHT
BEGIN:STANDARD
TZOFFSETFROM:-0400
TZOFFSETTO:-0500
TZNAME:EST
DTSTART:20251102T060000
END:STANDARD
BEGIN:DAYLIGHT
TZOFFSETFROM:-0500
TZOFFSETTO:-0400
TZNAME:EDT
DTSTART:20260308T070000
END:DAYLIGHT
BEGIN:STANDARD
TZOFFSETFROM:-0400
TZOFFSETTO:-0500
TZNAME:EST
DTSTART:20261101T060000
END:STANDARD
BEGIN:DAYLIGHT
TZOFFSETFROM:-0500
TZOFFSETTO:-0400
TZNAME:EDT
DTSTART:20270314T070000
END:DAYLIGHT
BEGIN:STANDARD
TZOFFSETFROM:-0400
TZOFFSETTO:-0500
TZNAME:EST
DTSTART:20271107T060000
END:STANDARD
END:VTIMEZONE
BEGIN:VEVENT
DTSTART;TZID=America/New_York:20260424T090000
DTEND;TZID=America/New_York:20260424T150000
DTSTAMP:20260424T061757
CREATED:20250806T034518Z
LAST-MODIFIED:20250806T034518Z
UID:10003497-1777021200-1777042800@flyingdeernaturecenter.org
SUMMARY:Cobblers Homeschool Program
DESCRIPTION:
URL:https://flyingdeernaturecenter.org/event/cobblers-homeschool-program-14/2026-04-24/
LOCATION:Bartholomew’s Cobble\, 105 Weatogue Road\, Ashley Falls\, Sheffield\, MA\, 01257\, United States
CATEGORIES:Homeschool
END:VEVENT
BEGIN:VEVENT
DTSTART;TZID=America/New_York:20260427T090000
DTEND;TZID=America/New_York:20260427T150000
DTSTAMP:20260424T061757
CREATED:20250806T034140Z
LAST-MODIFIED:20250806T034140Z
UID:10003474-1777280400-1777302000@flyingdeernaturecenter.org
SUMMARY:Wild Ways Teen Program
DESCRIPTION:
URL:https://flyingdeernaturecenter.org/event/wild-ways-teen-program-16/2026-04-27/
LOCATION:Daley Road\, 122 Daley Rd\, East Chatham\, 12060\, United States
CATEGORIES:Homeschool
END:VEVENT
BEGIN:VEVENT
DTSTART;TZID=America/New_York:20260428T090000
DTEND;TZID=America/New_York:20260428T150000
DTSTAMP:20260424T061757
CREATED:20251014T160159Z
LAST-MODIFIED:20251014T160159Z
UID:10003695-1777366800-1777388400@flyingdeernaturecenter.org
SUMMARY:Treetop
DESCRIPTION:
URL:https://flyingdeernaturecenter.org/event/treetop-26/
LOCATION:Daley Road\, 122 Daley Rd\, East Chatham\, 12060\, United States
CATEGORIES:Homeschool
END:VEVENT
BEGIN:VEVENT
DTSTART;TZID=America/New_York:20260429T090000
DTEND;TZID=America/New_York:20260429T150000
DTSTAMP:20260424T061757
CREATED:20250806T035308Z
LAST-MODIFIED:20250806T035308Z
UID:10003546-1777453200-1777474800@flyingdeernaturecenter.org
SUMMARY:FOREST Homeschool Program
DESCRIPTION:
URL:https://flyingdeernaturecenter.org/event/forest-homeschool-program-25/2026-04-29/
LOCATION:Daley Road\, 122 Daley Rd\, East Chatham\, 12060\, United States
CATEGORIES:Homeschool
END:VEVENT
BEGIN:VEVENT
DTSTART;TZID=America/New_York:20260430T090000
DTEND;TZID=America/New_York:20260430T150000
DTSTAMP:20260424T061757
CREATED:20250806T035453Z
LAST-MODIFIED:20250806T035453Z
UID:10003558-1777539600-1777561200@flyingdeernaturecenter.org
SUMMARY:FOREST Homeschool Program
DESCRIPTION:
URL:https://flyingdeernaturecenter.org/event/forest-homeschool-program-26/2026-04-30/
LOCATION:Daley Road\, 122 Daley Rd\, East Chatham\, 12060\, United States
CATEGORIES:Homeschool
END:VEVENT
END:VCALENDAR