BEGIN:VCALENDAR
VERSION:2.0
PRODID:-//Flying Deer Nature Center - ECPv6.15.20//NONSGML v1.0//EN
CALSCALE:GREGORIAN
METHOD:PUBLISH
X-WR-CALNAME:Flying Deer Nature Center
X-ORIGINAL-URL:https://flyingdeernaturecenter.org
X-WR-CALDESC:Events for Flying Deer Nature Center
REFRESH-INTERVAL;VALUE=DURATION:PT1H
X-Robots-Tag:noindex
X-PUBLISHED-TTL:PT1H
BEGIN:VTIMEZONE
TZID:America/New_York
BEGIN:DAYLIGHT
TZOFFSETFROM:-0500
TZOFFSETTO:-0400
TZNAME:EDT
DTSTART:20250309T070000
END:DAYLIGHT
BEGIN:STANDARD
TZOFFSETFROM:-0400
TZOFFSETTO:-0500
TZNAME:EST
DTSTART:20251102T060000
END:STANDARD
BEGIN:DAYLIGHT
TZOFFSETFROM:-0500
TZOFFSETTO:-0400
TZNAME:EDT
DTSTART:20260308T070000
END:DAYLIGHT
BEGIN:STANDARD
TZOFFSETFROM:-0400
TZOFFSETTO:-0500
TZNAME:EST
DTSTART:20261101T060000
END:STANDARD
BEGIN:DAYLIGHT
TZOFFSETFROM:-0500
TZOFFSETTO:-0400
TZNAME:EDT
DTSTART:20270314T070000
END:DAYLIGHT
BEGIN:STANDARD
TZOFFSETFROM:-0400
TZOFFSETTO:-0500
TZNAME:EST
DTSTART:20271107T060000
END:STANDARD
END:VTIMEZONE
BEGIN:VEVENT
DTSTART;TZID=America/New_York:20260422T090000
DTEND;TZID=America/New_York:20260422T150000
DTSTAMP:20260422T224011
CREATED:20250806T034943Z
LAST-MODIFIED:20250806T034943Z
UID:10003521-1776848400-1776870000@flyingdeernaturecenter.org
SUMMARY:Forest K in East Chatham
DESCRIPTION:
URL:https://flyingdeernaturecenter.org/event/forest-k-in-east-chatham-5/2026-04-22/
LOCATION:Daley Road\, 122 Daley Rd\, East Chatham\, 12060\, United States
CATEGORIES:Forest Kindergarten
END:VEVENT
BEGIN:VEVENT
DTSTART;TZID=America/New_York:20260423T090000
DTEND;TZID=America/New_York:20260423T150000
DTSTAMP:20260422T224011
CREATED:20250806T035109Z
LAST-MODIFIED:20250806T035109Z
UID:10003533-1776934800-1776956400@flyingdeernaturecenter.org
SUMMARY:Forest K in East Chatham
DESCRIPTION:
URL:https://flyingdeernaturecenter.org/event/forest-k-in-east-chatham-6/2026-04-23/
LOCATION:Daley Road\, 122 Daley Rd\, East Chatham\, 12060\, United States
CATEGORIES:Forest Kindergarten
END:VEVENT
BEGIN:VEVENT
DTSTART;TZID=America/New_York:20260424T090000
DTEND;TZID=America/New_York:20260424T130000
DTSTAMP:20260422T224011
CREATED:20250806T034350Z
LAST-MODIFIED:20250806T034350Z
UID:10003485-1777021200-1777035600@flyingdeernaturecenter.org
SUMMARY:Forest K at the Cobble
DESCRIPTION:
URL:https://flyingdeernaturecenter.org/event/forest-k-at-the-cobble-11/2026-04-24/
LOCATION:Bartholomew’s Cobble\, 105 Weatogue Road\, Ashley Falls\, Sheffield\, MA\, 01257\, United States
CATEGORIES:Forest Kindergarten
END:VEVENT
BEGIN:VEVENT
DTSTART;TZID=America/New_York:20260428T090000
DTEND;TZID=America/New_York:20260428T150000
DTSTAMP:20260422T224011
CREATED:20250806T034751Z
LAST-MODIFIED:20250806T034751Z
UID:10003510-1777366800-1777388400@flyingdeernaturecenter.org
SUMMARY:Forest K in East Chatham
DESCRIPTION:
URL:https://flyingdeernaturecenter.org/event/forest-k-in-east-chatham-4/2026-04-28/
LOCATION:Daley Road\, 122 Daley Rd\, East Chatham\, 12060\, United States
CATEGORIES:Forest Kindergarten
END:VEVENT
BEGIN:VEVENT
DTSTART;TZID=America/New_York:20260429T090000
DTEND;TZID=America/New_York:20260429T150000
DTSTAMP:20260422T224011
CREATED:20250806T034943Z
LAST-MODIFIED:20250806T034943Z
UID:10003522-1777453200-1777474800@flyingdeernaturecenter.org
SUMMARY:Forest K in East Chatham
DESCRIPTION:
URL:https://flyingdeernaturecenter.org/event/forest-k-in-east-chatham-5/2026-04-29/
LOCATION:Daley Road\, 122 Daley Rd\, East Chatham\, 12060\, United States
CATEGORIES:Forest Kindergarten
END:VEVENT
BEGIN:VEVENT
DTSTART;TZID=America/New_York:20260430T090000
DTEND;TZID=America/New_York:20260430T150000
DTSTAMP:20260422T224011
CREATED:20250806T035109Z
LAST-MODIFIED:20250806T035109Z
UID:10003534-1777539600-1777561200@flyingdeernaturecenter.org
SUMMARY:Forest K in East Chatham
DESCRIPTION:
URL:https://flyingdeernaturecenter.org/event/forest-k-in-east-chatham-6/2026-04-30/
LOCATION:Daley Road\, 122 Daley Rd\, East Chatham\, 12060\, United States
CATEGORIES:Forest Kindergarten
END:VEVENT
END:VCALENDAR