BEGIN:VCALENDAR
VERSION:2.0
PRODID:-//Flying Deer Nature Center - ECPv6.15.20//NONSGML v1.0//EN
CALSCALE:GREGORIAN
METHOD:PUBLISH
X-WR-CALNAME:Flying Deer Nature Center
X-ORIGINAL-URL:https://flyingdeernaturecenter.org
X-WR-CALDESC:Events for Flying Deer Nature Center
REFRESH-INTERVAL;VALUE=DURATION:PT1H
X-Robots-Tag:noindex
X-PUBLISHED-TTL:PT1H
BEGIN:VTIMEZONE
TZID:America/New_York
BEGIN:DAYLIGHT
TZOFFSETFROM:-0500
TZOFFSETTO:-0400
TZNAME:EDT
DTSTART:20250309T070000
END:DAYLIGHT
BEGIN:STANDARD
TZOFFSETFROM:-0400
TZOFFSETTO:-0500
TZNAME:EST
DTSTART:20251102T060000
END:STANDARD
BEGIN:DAYLIGHT
TZOFFSETFROM:-0500
TZOFFSETTO:-0400
TZNAME:EDT
DTSTART:20260308T070000
END:DAYLIGHT
BEGIN:STANDARD
TZOFFSETFROM:-0400
TZOFFSETTO:-0500
TZNAME:EST
DTSTART:20261101T060000
END:STANDARD
BEGIN:DAYLIGHT
TZOFFSETFROM:-0500
TZOFFSETTO:-0400
TZNAME:EDT
DTSTART:20270314T070000
END:DAYLIGHT
BEGIN:STANDARD
TZOFFSETFROM:-0400
TZOFFSETTO:-0500
TZNAME:EST
DTSTART:20271107T060000
END:STANDARD
END:VTIMEZONE
BEGIN:VEVENT
DTSTART;TZID=America/New_York:20260203T080000
DTEND;TZID=America/New_York:20260203T170000
DTSTAMP:20260423T014125
CREATED:20250807T013146Z
LAST-MODIFIED:20250807T013354Z
UID:10003601-1770105600-1770138000@flyingdeernaturecenter.org
SUMMARY:Forest K in East Chatham
DESCRIPTION:
URL:https://flyingdeernaturecenter.org/event/forest-k-in-east-chatham-7/2026-02-03/
LOCATION:Daley Road\, 122 Daley Rd\, East Chatham\, 12060\, United States
CATEGORIES:Forest Kindergarten
END:VEVENT
BEGIN:VEVENT
DTSTART;TZID=America/New_York:20260204T090000
DTEND;TZID=America/New_York:20260204T150000
DTSTAMP:20260423T014125
CREATED:20250807T013621Z
LAST-MODIFIED:20250807T013621Z
UID:10003657-1770195600-1770217200@flyingdeernaturecenter.org
SUMMARY:Forest K in East Chatham
DESCRIPTION:
URL:https://flyingdeernaturecenter.org/event/forest-k-in-east-chatham-8/2026-02-04/
CATEGORIES:Forest Kindergarten
END:VEVENT
BEGIN:VEVENT
DTSTART;TZID=America/New_York:20260205T090000
DTEND;TZID=America/New_York:20260205T150000
DTSTAMP:20260423T014125
CREATED:20260108T200250Z
LAST-MODIFIED:20260108T200514Z
UID:10003725-1770282000-1770303600@flyingdeernaturecenter.org
SUMMARY:Forest K in East Chatham
DESCRIPTION:
URL:https://flyingdeernaturecenter.org/event/forest-k-in-east-chatham-10-2/2026-02-05/
LOCATION:Daley Road\, 122 Daley Rd\, East Chatham\, 12060\, United States
CATEGORIES:Forest Kindergarten
END:VEVENT
BEGIN:VEVENT
DTSTART;TZID=America/New_York:20260206T090000
DTEND;TZID=America/New_York:20260206T130000
DTSTAMP:20260423T014125
CREATED:20250807T011558Z
LAST-MODIFIED:20250807T011635Z
UID:10003587-1770368400-1770382800@flyingdeernaturecenter.org
SUMMARY:Forest K at the Cobble
DESCRIPTION:
URL:https://flyingdeernaturecenter.org/event/forest-k-at-the-cobble-12/2026-02-06/
LOCATION:Bartholomew’s Cobble\, 105 Weatogue Road\, Ashley Falls\, Sheffield\, MA\, 01257\, United States
CATEGORIES:Forest Kindergarten
END:VEVENT
END:VCALENDAR