BEGIN:VCALENDAR
VERSION:2.0
PRODID:-//Flying Deer Nature Center - ECPv6.15.20//NONSGML v1.0//EN
CALSCALE:GREGORIAN
METHOD:PUBLISH
X-WR-CALNAME:Flying Deer Nature Center
X-ORIGINAL-URL:https://flyingdeernaturecenter.org
X-WR-CALDESC:Events for Flying Deer Nature Center
REFRESH-INTERVAL;VALUE=DURATION:PT1H
X-Robots-Tag:noindex
X-PUBLISHED-TTL:PT1H
BEGIN:VTIMEZONE
TZID:America/New_York
BEGIN:DAYLIGHT
TZOFFSETFROM:-0500
TZOFFSETTO:-0400
TZNAME:EDT
DTSTART:20240310T070000
END:DAYLIGHT
BEGIN:STANDARD
TZOFFSETFROM:-0400
TZOFFSETTO:-0500
TZNAME:EST
DTSTART:20241103T060000
END:STANDARD
BEGIN:DAYLIGHT
TZOFFSETFROM:-0500
TZOFFSETTO:-0400
TZNAME:EDT
DTSTART:20250309T070000
END:DAYLIGHT
BEGIN:STANDARD
TZOFFSETFROM:-0400
TZOFFSETTO:-0500
TZNAME:EST
DTSTART:20251102T060000
END:STANDARD
BEGIN:DAYLIGHT
TZOFFSETFROM:-0500
TZOFFSETTO:-0400
TZNAME:EDT
DTSTART:20260308T070000
END:DAYLIGHT
BEGIN:STANDARD
TZOFFSETFROM:-0400
TZOFFSETTO:-0500
TZNAME:EST
DTSTART:20261101T060000
END:STANDARD
END:VTIMEZONE
BEGIN:VEVENT
DTSTART;TZID=America/New_York:20250304T090000
DTEND;TZID=America/New_York:20250304T150000
DTSTAMP:20260425T132136
CREATED:20240516T030522Z
LAST-MODIFIED:20240516T030604Z
UID:10002396-1741078800-1741100400@flyingdeernaturecenter.org
SUMMARY:Forest Kindergarten in East Chatham
DESCRIPTION:
URL:https://flyingdeernaturecenter.org/event/forest-kindergarten-in-east-chatham-9/2025-03-04/
LOCATION:Daley Road\, 122 Daley Rd\, East Chatham\, 12060\, United States
CATEGORIES:Forest Kindergarten
END:VEVENT
BEGIN:VEVENT
DTSTART;TZID=America/New_York:20250305T090000
DTEND;TZID=America/New_York:20250305T150000
DTSTAMP:20260425T132136
CREATED:20240516T030812Z
LAST-MODIFIED:20240516T030812Z
UID:10002408-1741165200-1741186800@flyingdeernaturecenter.org
SUMMARY:Forest Kindergarten in East Chatham
DESCRIPTION:
URL:https://flyingdeernaturecenter.org/event/forest-kindergarten-in-east-chatham-10/2025-03-05/
CATEGORIES:Forest Kindergarten
END:VEVENT
BEGIN:VEVENT
DTSTART;TZID=America/New_York:20250306T090000
DTEND;TZID=America/New_York:20250306T150000
DTSTAMP:20260425T132136
CREATED:20240516T031043Z
LAST-MODIFIED:20240516T031220Z
UID:10002420-1741251600-1741273200@flyingdeernaturecenter.org
SUMMARY:Forest Kindergarten in East Chatham
DESCRIPTION:
URL:https://flyingdeernaturecenter.org/event/forest-kindergarten-in-east-chatham-11/2025-03-06/
LOCATION:Daley Road\, 122 Daley Rd\, East Chatham\, 12060\, United States
CATEGORIES:Forest Kindergarten
END:VEVENT
BEGIN:VEVENT
DTSTART;TZID=America/New_York:20250307T090000
DTEND;TZID=America/New_York:20250307T150000
DTSTAMP:20260425T132136
CREATED:20240516T025914Z
LAST-MODIFIED:20240516T025914Z
UID:10002384-1741338000-1741359600@flyingdeernaturecenter.org
SUMMARY:Forest Kindergarten at the Cobble
DESCRIPTION:
URL:https://flyingdeernaturecenter.org/event/forest-kindergarten-at-the-cobble-3/2025-03-07/
LOCATION:Bartholomew’s Cobble\, 105 Weatogue Road\, Ashley Falls\, Sheffield\, MA\, 01257\, United States
CATEGORIES:Forest Kindergarten
END:VEVENT
BEGIN:VEVENT
DTSTART;TZID=America/New_York:20250311T090000
DTEND;TZID=America/New_York:20250311T150000
DTSTAMP:20260425T132136
CREATED:20240516T030522Z
LAST-MODIFIED:20240516T030604Z
UID:10002397-1741683600-1741705200@flyingdeernaturecenter.org
SUMMARY:Forest Kindergarten in East Chatham
DESCRIPTION:
URL:https://flyingdeernaturecenter.org/event/forest-kindergarten-in-east-chatham-9/2025-03-11/
LOCATION:Daley Road\, 122 Daley Rd\, East Chatham\, 12060\, United States
CATEGORIES:Forest Kindergarten
END:VEVENT
BEGIN:VEVENT
DTSTART;TZID=America/New_York:20250312T090000
DTEND;TZID=America/New_York:20250312T150000
DTSTAMP:20260425T132136
CREATED:20240516T030812Z
LAST-MODIFIED:20240516T030812Z
UID:10002409-1741770000-1741791600@flyingdeernaturecenter.org
SUMMARY:Forest Kindergarten in East Chatham
DESCRIPTION:
URL:https://flyingdeernaturecenter.org/event/forest-kindergarten-in-east-chatham-10/2025-03-12/
CATEGORIES:Forest Kindergarten
END:VEVENT
BEGIN:VEVENT
DTSTART;TZID=America/New_York:20250313T090000
DTEND;TZID=America/New_York:20250313T150000
DTSTAMP:20260425T132136
CREATED:20240516T031043Z
LAST-MODIFIED:20240516T031220Z
UID:10002421-1741856400-1741878000@flyingdeernaturecenter.org
SUMMARY:Forest Kindergarten in East Chatham
DESCRIPTION:
URL:https://flyingdeernaturecenter.org/event/forest-kindergarten-in-east-chatham-11/2025-03-13/
LOCATION:Daley Road\, 122 Daley Rd\, East Chatham\, 12060\, United States
CATEGORIES:Forest Kindergarten
END:VEVENT
BEGIN:VEVENT
DTSTART;TZID=America/New_York:20250314T090000
DTEND;TZID=America/New_York:20250314T150000
DTSTAMP:20260425T132136
CREATED:20240516T025914Z
LAST-MODIFIED:20240516T025914Z
UID:10002385-1741942800-1741964400@flyingdeernaturecenter.org
SUMMARY:Forest Kindergarten at the Cobble
DESCRIPTION:
URL:https://flyingdeernaturecenter.org/event/forest-kindergarten-at-the-cobble-3/2025-03-14/
LOCATION:Bartholomew’s Cobble\, 105 Weatogue Road\, Ashley Falls\, Sheffield\, MA\, 01257\, United States
CATEGORIES:Forest Kindergarten
END:VEVENT
BEGIN:VEVENT
DTSTART;TZID=America/New_York:20250318T090000
DTEND;TZID=America/New_York:20250318T150000
DTSTAMP:20260425T132136
CREATED:20240516T030522Z
LAST-MODIFIED:20240516T030604Z
UID:10002398-1742288400-1742310000@flyingdeernaturecenter.org
SUMMARY:Forest Kindergarten in East Chatham
DESCRIPTION:
URL:https://flyingdeernaturecenter.org/event/forest-kindergarten-in-east-chatham-9/2025-03-18/
LOCATION:Daley Road\, 122 Daley Rd\, East Chatham\, 12060\, United States
CATEGORIES:Forest Kindergarten
END:VEVENT
BEGIN:VEVENT
DTSTART;TZID=America/New_York:20250319T090000
DTEND;TZID=America/New_York:20250319T150000
DTSTAMP:20260425T132136
CREATED:20240516T030812Z
LAST-MODIFIED:20240516T030812Z
UID:10002410-1742374800-1742396400@flyingdeernaturecenter.org
SUMMARY:Forest Kindergarten in East Chatham
DESCRIPTION:
URL:https://flyingdeernaturecenter.org/event/forest-kindergarten-in-east-chatham-10/2025-03-19/
CATEGORIES:Forest Kindergarten
END:VEVENT
BEGIN:VEVENT
DTSTART;TZID=America/New_York:20250320T090000
DTEND;TZID=America/New_York:20250320T150000
DTSTAMP:20260425T132136
CREATED:20240516T031043Z
LAST-MODIFIED:20240516T031220Z
UID:10002422-1742461200-1742482800@flyingdeernaturecenter.org
SUMMARY:Forest Kindergarten in East Chatham
DESCRIPTION:
URL:https://flyingdeernaturecenter.org/event/forest-kindergarten-in-east-chatham-11/2025-03-20/
LOCATION:Daley Road\, 122 Daley Rd\, East Chatham\, 12060\, United States
CATEGORIES:Forest Kindergarten
END:VEVENT
BEGIN:VEVENT
DTSTART;TZID=America/New_York:20250321T090000
DTEND;TZID=America/New_York:20250321T150000
DTSTAMP:20260425T132136
CREATED:20240516T025914Z
LAST-MODIFIED:20240516T025914Z
UID:10002386-1742547600-1742569200@flyingdeernaturecenter.org
SUMMARY:Forest Kindergarten at the Cobble
DESCRIPTION:
URL:https://flyingdeernaturecenter.org/event/forest-kindergarten-at-the-cobble-3/2025-03-21/
LOCATION:Bartholomew’s Cobble\, 105 Weatogue Road\, Ashley Falls\, Sheffield\, MA\, 01257\, United States
CATEGORIES:Forest Kindergarten
END:VEVENT
BEGIN:VEVENT
DTSTART;TZID=America/New_York:20250325T090000
DTEND;TZID=America/New_York:20250325T150000
DTSTAMP:20260425T132136
CREATED:20240516T030522Z
LAST-MODIFIED:20240516T030604Z
UID:10002399-1742893200-1742914800@flyingdeernaturecenter.org
SUMMARY:Forest Kindergarten in East Chatham
DESCRIPTION:
URL:https://flyingdeernaturecenter.org/event/forest-kindergarten-in-east-chatham-9/2025-03-25/
LOCATION:Daley Road\, 122 Daley Rd\, East Chatham\, 12060\, United States
CATEGORIES:Forest Kindergarten
END:VEVENT
BEGIN:VEVENT
DTSTART;TZID=America/New_York:20250326T090000
DTEND;TZID=America/New_York:20250326T150000
DTSTAMP:20260425T132136
CREATED:20240516T030812Z
LAST-MODIFIED:20240516T030812Z
UID:10002411-1742979600-1743001200@flyingdeernaturecenter.org
SUMMARY:Forest Kindergarten in East Chatham
DESCRIPTION:
URL:https://flyingdeernaturecenter.org/event/forest-kindergarten-in-east-chatham-10/2025-03-26/
CATEGORIES:Forest Kindergarten
END:VEVENT
BEGIN:VEVENT
DTSTART;TZID=America/New_York:20250327T090000
DTEND;TZID=America/New_York:20250327T150000
DTSTAMP:20260425T132136
CREATED:20240516T031043Z
LAST-MODIFIED:20240516T031220Z
UID:10002423-1743066000-1743087600@flyingdeernaturecenter.org
SUMMARY:Forest Kindergarten in East Chatham
DESCRIPTION:
URL:https://flyingdeernaturecenter.org/event/forest-kindergarten-in-east-chatham-11/2025-03-27/
LOCATION:Daley Road\, 122 Daley Rd\, East Chatham\, 12060\, United States
CATEGORIES:Forest Kindergarten
END:VEVENT
BEGIN:VEVENT
DTSTART;TZID=America/New_York:20250328T090000
DTEND;TZID=America/New_York:20250328T150000
DTSTAMP:20260425T132136
CREATED:20240516T025914Z
LAST-MODIFIED:20240516T025914Z
UID:10002387-1743152400-1743174000@flyingdeernaturecenter.org
SUMMARY:Forest Kindergarten at the Cobble
DESCRIPTION:
URL:https://flyingdeernaturecenter.org/event/forest-kindergarten-at-the-cobble-3/2025-03-28/
LOCATION:Bartholomew’s Cobble\, 105 Weatogue Road\, Ashley Falls\, Sheffield\, MA\, 01257\, United States
CATEGORIES:Forest Kindergarten
END:VEVENT
END:VCALENDAR