BEGIN:VCALENDAR
VERSION:2.0
PRODID:-//Flying Deer Nature Center - ECPv6.15.20//NONSGML v1.0//EN
CALSCALE:GREGORIAN
METHOD:PUBLISH
X-ORIGINAL-URL:https://flyingdeernaturecenter.org
X-WR-CALDESC:Events for Flying Deer Nature Center
REFRESH-INTERVAL;VALUE=DURATION:PT1H
X-Robots-Tag:noindex
X-PUBLISHED-TTL:PT1H
BEGIN:VTIMEZONE
TZID:America/New_York
BEGIN:DAYLIGHT
TZOFFSETFROM:-0500
TZOFFSETTO:-0400
TZNAME:EDT
DTSTART:20240310T070000
END:DAYLIGHT
BEGIN:STANDARD
TZOFFSETFROM:-0400
TZOFFSETTO:-0500
TZNAME:EST
DTSTART:20241103T060000
END:STANDARD
BEGIN:DAYLIGHT
TZOFFSETFROM:-0500
TZOFFSETTO:-0400
TZNAME:EDT
DTSTART:20250309T070000
END:DAYLIGHT
BEGIN:STANDARD
TZOFFSETFROM:-0400
TZOFFSETTO:-0500
TZNAME:EST
DTSTART:20251102T060000
END:STANDARD
BEGIN:DAYLIGHT
TZOFFSETFROM:-0500
TZOFFSETTO:-0400
TZNAME:EDT
DTSTART:20260308T070000
END:DAYLIGHT
BEGIN:STANDARD
TZOFFSETFROM:-0400
TZOFFSETTO:-0500
TZNAME:EST
DTSTART:20261101T060000
END:STANDARD
END:VTIMEZONE
BEGIN:VEVENT
DTSTART;TZID=America/New_York:20250114T090000
DTEND;TZID=America/New_York:20250114T150000
DTSTAMP:20260425T173013
CREATED:20240516T022600Z
LAST-MODIFIED:20240516T022600Z
UID:10002239-1736845200-1736866800@flyingdeernaturecenter.org
SUMMARY:Forest Kindergarten in East Chatham
DESCRIPTION:
URL:https://flyingdeernaturecenter.org/event/forest-kindergarten-in-east-chatham-6/2025-01-14/
LOCATION:Daley Road\, 122 Daley Rd\, East Chatham\, 12060\, United States
CATEGORIES:Forest Kindergarten
END:VEVENT
BEGIN:VEVENT
DTSTART;TZID=America/New_York:20250115T090000
DTEND;TZID=America/New_York:20250115T150000
DTSTAMP:20260425T173013
CREATED:20240516T023210Z
LAST-MODIFIED:20240516T023210Z
UID:10002247-1736931600-1736953200@flyingdeernaturecenter.org
SUMMARY:Forest Kindergarten in East Chatham
DESCRIPTION:
URL:https://flyingdeernaturecenter.org/event/forest-kindergarten-in-east-chatham-8/2025-01-15/
LOCATION:Daley Road\, 122 Daley Rd\, East Chatham\, 12060\, United States
CATEGORIES:Forest Kindergarten
END:VEVENT
BEGIN:VEVENT
DTSTART;TZID=America/New_York:20250116T090000
DTEND;TZID=America/New_York:20250116T150000
DTSTAMP:20260425T173013
CREATED:20240516T022914Z
LAST-MODIFIED:20240516T022914Z
UID:10002243-1737018000-1737039600@flyingdeernaturecenter.org
SUMMARY:Forest Kindergarten in East Chatham
DESCRIPTION:
URL:https://flyingdeernaturecenter.org/event/forest-kindergarten-in-east-chatham-7/2025-01-16/
LOCATION:Daley Road\, 122 Daley Rd\, East Chatham\, 12060\, United States
CATEGORIES:Forest Kindergarten
END:VEVENT
BEGIN:VEVENT
DTSTART;TZID=America/New_York:20250117T090000
DTEND;TZID=America/New_York:20250117T150000
DTSTAMP:20260425T173013
CREATED:20240516T023517Z
LAST-MODIFIED:20240516T024753Z
UID:10002251-1737104400-1737126000@flyingdeernaturecenter.org
SUMMARY:Forest Kindergarten at the Cobble
DESCRIPTION:
URL:https://flyingdeernaturecenter.org/event/forest-kindergarten-at-the-cobble-2/2025-01-17/
LOCATION:Bartholomew’s Cobble\, 105 Weatogue Road\, Ashley Falls\, Sheffield\, MA\, 01257\, United States
CATEGORIES:Forest Kindergarten
END:VEVENT
BEGIN:VEVENT
DTSTART;TZID=America/New_York:20250121T090000
DTEND;TZID=America/New_York:20250121T150000
DTSTAMP:20260425T173013
CREATED:20240516T022600Z
LAST-MODIFIED:20240516T022600Z
UID:10002240-1737450000-1737471600@flyingdeernaturecenter.org
SUMMARY:Forest Kindergarten in East Chatham
DESCRIPTION:
URL:https://flyingdeernaturecenter.org/event/forest-kindergarten-in-east-chatham-6/2025-01-21/
LOCATION:Daley Road\, 122 Daley Rd\, East Chatham\, 12060\, United States
CATEGORIES:Forest Kindergarten
END:VEVENT
BEGIN:VEVENT
DTSTART;TZID=America/New_York:20250122T090000
DTEND;TZID=America/New_York:20250122T150000
DTSTAMP:20260425T173013
CREATED:20240516T023210Z
LAST-MODIFIED:20240516T023210Z
UID:10002248-1737536400-1737558000@flyingdeernaturecenter.org
SUMMARY:Forest Kindergarten in East Chatham
DESCRIPTION:
URL:https://flyingdeernaturecenter.org/event/forest-kindergarten-in-east-chatham-8/2025-01-22/
LOCATION:Daley Road\, 122 Daley Rd\, East Chatham\, 12060\, United States
CATEGORIES:Forest Kindergarten
END:VEVENT
BEGIN:VEVENT
DTSTART;TZID=America/New_York:20250123T090000
DTEND;TZID=America/New_York:20250123T150000
DTSTAMP:20260425T173013
CREATED:20240516T022914Z
LAST-MODIFIED:20240516T022914Z
UID:10002244-1737622800-1737644400@flyingdeernaturecenter.org
SUMMARY:Forest Kindergarten in East Chatham
DESCRIPTION:
URL:https://flyingdeernaturecenter.org/event/forest-kindergarten-in-east-chatham-7/2025-01-23/
LOCATION:Daley Road\, 122 Daley Rd\, East Chatham\, 12060\, United States
CATEGORIES:Forest Kindergarten
END:VEVENT
BEGIN:VEVENT
DTSTART;TZID=America/New_York:20250124T090000
DTEND;TZID=America/New_York:20250124T150000
DTSTAMP:20260425T173013
CREATED:20240516T023517Z
LAST-MODIFIED:20240516T024753Z
UID:10002252-1737709200-1737730800@flyingdeernaturecenter.org
SUMMARY:Forest Kindergarten at the Cobble
DESCRIPTION:
URL:https://flyingdeernaturecenter.org/event/forest-kindergarten-at-the-cobble-2/2025-01-24/
LOCATION:Bartholomew’s Cobble\, 105 Weatogue Road\, Ashley Falls\, Sheffield\, MA\, 01257\, United States
CATEGORIES:Forest Kindergarten
END:VEVENT
BEGIN:VEVENT
DTSTART;TZID=America/New_York:20250128T090000
DTEND;TZID=America/New_York:20250128T150000
DTSTAMP:20260425T173013
CREATED:20240516T022600Z
LAST-MODIFIED:20240516T022600Z
UID:10002241-1738054800-1738076400@flyingdeernaturecenter.org
SUMMARY:Forest Kindergarten in East Chatham
DESCRIPTION:
URL:https://flyingdeernaturecenter.org/event/forest-kindergarten-in-east-chatham-6/2025-01-28/
LOCATION:Daley Road\, 122 Daley Rd\, East Chatham\, 12060\, United States
CATEGORIES:Forest Kindergarten
END:VEVENT
BEGIN:VEVENT
DTSTART;TZID=America/New_York:20250129T090000
DTEND;TZID=America/New_York:20250129T150000
DTSTAMP:20260425T173013
CREATED:20240516T023210Z
LAST-MODIFIED:20240516T023210Z
UID:10002249-1738141200-1738162800@flyingdeernaturecenter.org
SUMMARY:Forest Kindergarten in East Chatham
DESCRIPTION:
URL:https://flyingdeernaturecenter.org/event/forest-kindergarten-in-east-chatham-8/2025-01-29/
LOCATION:Daley Road\, 122 Daley Rd\, East Chatham\, 12060\, United States
CATEGORIES:Forest Kindergarten
END:VEVENT
BEGIN:VEVENT
DTSTART;TZID=America/New_York:20250130T090000
DTEND;TZID=America/New_York:20250130T150000
DTSTAMP:20260425T173013
CREATED:20240516T022914Z
LAST-MODIFIED:20240516T022914Z
UID:10002245-1738227600-1738249200@flyingdeernaturecenter.org
SUMMARY:Forest Kindergarten in East Chatham
DESCRIPTION:
URL:https://flyingdeernaturecenter.org/event/forest-kindergarten-in-east-chatham-7/2025-01-30/
LOCATION:Daley Road\, 122 Daley Rd\, East Chatham\, 12060\, United States
CATEGORIES:Forest Kindergarten
END:VEVENT
BEGIN:VEVENT
DTSTART;TZID=America/New_York:20250131T090000
DTEND;TZID=America/New_York:20250131T150000
DTSTAMP:20260425T173013
CREATED:20240516T023517Z
LAST-MODIFIED:20240516T024753Z
UID:10002253-1738314000-1738335600@flyingdeernaturecenter.org
SUMMARY:Forest Kindergarten at the Cobble
DESCRIPTION:
URL:https://flyingdeernaturecenter.org/event/forest-kindergarten-at-the-cobble-2/2025-01-31/
LOCATION:Bartholomew’s Cobble\, 105 Weatogue Road\, Ashley Falls\, Sheffield\, MA\, 01257\, United States
CATEGORIES:Forest Kindergarten
END:VEVENT
END:VCALENDAR