BEGIN:VCALENDAR
VERSION:2.0
PRODID:-//Flying Deer Nature Center - ECPv6.15.20//NONSGML v1.0//EN
CALSCALE:GREGORIAN
METHOD:PUBLISH
X-WR-CALNAME:Flying Deer Nature Center
X-ORIGINAL-URL:https://flyingdeernaturecenter.org
X-WR-CALDESC:Events for Flying Deer Nature Center
REFRESH-INTERVAL;VALUE=DURATION:PT1H
X-Robots-Tag:noindex
X-PUBLISHED-TTL:PT1H
BEGIN:VTIMEZONE
TZID:America/New_York
BEGIN:DAYLIGHT
TZOFFSETFROM:-0500
TZOFFSETTO:-0400
TZNAME:EDT
DTSTART:20230312T070000
END:DAYLIGHT
BEGIN:STANDARD
TZOFFSETFROM:-0400
TZOFFSETTO:-0500
TZNAME:EST
DTSTART:20231105T060000
END:STANDARD
BEGIN:DAYLIGHT
TZOFFSETFROM:-0500
TZOFFSETTO:-0400
TZNAME:EDT
DTSTART:20240310T070000
END:DAYLIGHT
BEGIN:STANDARD
TZOFFSETFROM:-0400
TZOFFSETTO:-0500
TZNAME:EST
DTSTART:20241103T060000
END:STANDARD
BEGIN:DAYLIGHT
TZOFFSETFROM:-0500
TZOFFSETTO:-0400
TZNAME:EDT
DTSTART:20250309T070000
END:DAYLIGHT
BEGIN:STANDARD
TZOFFSETFROM:-0400
TZOFFSETTO:-0500
TZNAME:EST
DTSTART:20251102T060000
END:STANDARD
END:VTIMEZONE
BEGIN:VEVENT
DTSTART;TZID=America/New_York:20241001T090000
DTEND;TZID=America/New_York:20241001T150000
DTSTAMP:20260425T215502
CREATED:20240515T131957Z
LAST-MODIFIED:20240515T132311Z
UID:10002063-1727773200-1727794800@flyingdeernaturecenter.org
SUMMARY:Forest Kindergarten in East Chatham
DESCRIPTION:
URL:https://flyingdeernaturecenter.org/event/forest-kindergarten-in-east-chatham-5/2024-10-01/
LOCATION:Daley Road\, 122 Daley Rd\, East Chatham\, 12060\, United States
CATEGORIES:Forest Kindergarten
END:VEVENT
BEGIN:VEVENT
DTSTART;TZID=America/New_York:20241002T090000
DTEND;TZID=America/New_York:20241002T150000
DTSTAMP:20260425T215502
CREATED:20240515T131957Z
LAST-MODIFIED:20240515T132311Z
UID:10002064-1727859600-1727881200@flyingdeernaturecenter.org
SUMMARY:Forest Kindergarten in East Chatham
DESCRIPTION:
URL:https://flyingdeernaturecenter.org/event/forest-kindergarten-in-east-chatham-5/2024-10-02/
LOCATION:Daley Road\, 122 Daley Rd\, East Chatham\, 12060\, United States
CATEGORIES:Forest Kindergarten
END:VEVENT
BEGIN:VEVENT
DTSTART;TZID=America/New_York:20241003T090000
DTEND;TZID=America/New_York:20241003T150000
DTSTAMP:20260425T215502
CREATED:20240515T131957Z
LAST-MODIFIED:20240515T132311Z
UID:10002065-1727946000-1727967600@flyingdeernaturecenter.org
SUMMARY:Forest Kindergarten in East Chatham
DESCRIPTION:
URL:https://flyingdeernaturecenter.org/event/forest-kindergarten-in-east-chatham-5/2024-10-03/
LOCATION:Daley Road\, 122 Daley Rd\, East Chatham\, 12060\, United States
CATEGORIES:Forest Kindergarten
END:VEVENT
BEGIN:VEVENT
DTSTART;TZID=America/New_York:20241004T090000
DTEND;TZID=America/New_York:20241004T130000
DTSTAMP:20260425T215502
CREATED:20240515T132542Z
LAST-MODIFIED:20240515T132710Z
UID:10002097-1728032400-1728046800@flyingdeernaturecenter.org
SUMMARY:Forest Kindergarten at the Cobble
DESCRIPTION:
URL:https://flyingdeernaturecenter.org/event/forest-kindergarten-at-the-cobble/2024-10-04/
LOCATION:Bartholomew’s Cobble\, 105 Weatogue Road\, Ashley Falls\, Sheffield\, MA\, 01257\, United States
CATEGORIES:Forest Kindergarten
END:VEVENT
BEGIN:VEVENT
DTSTART;TZID=America/New_York:20241008T090000
DTEND;TZID=America/New_York:20241008T150000
DTSTAMP:20260425T215502
CREATED:20240515T131957Z
LAST-MODIFIED:20240515T132311Z
UID:10002066-1728378000-1728399600@flyingdeernaturecenter.org
SUMMARY:Forest Kindergarten in East Chatham
DESCRIPTION:
URL:https://flyingdeernaturecenter.org/event/forest-kindergarten-in-east-chatham-5/2024-10-08/
LOCATION:Daley Road\, 122 Daley Rd\, East Chatham\, 12060\, United States
CATEGORIES:Forest Kindergarten
END:VEVENT
BEGIN:VEVENT
DTSTART;TZID=America/New_York:20241009T090000
DTEND;TZID=America/New_York:20241009T150000
DTSTAMP:20260425T215502
CREATED:20240515T131957Z
LAST-MODIFIED:20240515T132311Z
UID:10002067-1728464400-1728486000@flyingdeernaturecenter.org
SUMMARY:Forest Kindergarten in East Chatham
DESCRIPTION:
URL:https://flyingdeernaturecenter.org/event/forest-kindergarten-in-east-chatham-5/2024-10-09/
LOCATION:Daley Road\, 122 Daley Rd\, East Chatham\, 12060\, United States
CATEGORIES:Forest Kindergarten
END:VEVENT
BEGIN:VEVENT
DTSTART;TZID=America/New_York:20241010T090000
DTEND;TZID=America/New_York:20241010T150000
DTSTAMP:20260425T215502
CREATED:20240515T131957Z
LAST-MODIFIED:20240515T132311Z
UID:10002068-1728550800-1728572400@flyingdeernaturecenter.org
SUMMARY:Forest Kindergarten in East Chatham
DESCRIPTION:
URL:https://flyingdeernaturecenter.org/event/forest-kindergarten-in-east-chatham-5/2024-10-10/
LOCATION:Daley Road\, 122 Daley Rd\, East Chatham\, 12060\, United States
CATEGORIES:Forest Kindergarten
END:VEVENT
BEGIN:VEVENT
DTSTART;TZID=America/New_York:20241011T090000
DTEND;TZID=America/New_York:20241011T130000
DTSTAMP:20260425T215502
CREATED:20240515T132542Z
LAST-MODIFIED:20240515T132710Z
UID:10002098-1728637200-1728651600@flyingdeernaturecenter.org
SUMMARY:Forest Kindergarten at the Cobble
DESCRIPTION:
URL:https://flyingdeernaturecenter.org/event/forest-kindergarten-at-the-cobble/2024-10-11/
LOCATION:Bartholomew’s Cobble\, 105 Weatogue Road\, Ashley Falls\, Sheffield\, MA\, 01257\, United States
CATEGORIES:Forest Kindergarten
END:VEVENT
BEGIN:VEVENT
DTSTART;TZID=America/New_York:20241015T090000
DTEND;TZID=America/New_York:20241015T150000
DTSTAMP:20260425T215502
CREATED:20240515T131957Z
LAST-MODIFIED:20240515T132311Z
UID:10002069-1728982800-1729004400@flyingdeernaturecenter.org
SUMMARY:Forest Kindergarten in East Chatham
DESCRIPTION:
URL:https://flyingdeernaturecenter.org/event/forest-kindergarten-in-east-chatham-5/2024-10-15/
LOCATION:Daley Road\, 122 Daley Rd\, East Chatham\, 12060\, United States
CATEGORIES:Forest Kindergarten
END:VEVENT
BEGIN:VEVENT
DTSTART;TZID=America/New_York:20241016T090000
DTEND;TZID=America/New_York:20241016T150000
DTSTAMP:20260425T215502
CREATED:20240515T131957Z
LAST-MODIFIED:20240515T132311Z
UID:10002070-1729069200-1729090800@flyingdeernaturecenter.org
SUMMARY:Forest Kindergarten in East Chatham
DESCRIPTION:
URL:https://flyingdeernaturecenter.org/event/forest-kindergarten-in-east-chatham-5/2024-10-16/
LOCATION:Daley Road\, 122 Daley Rd\, East Chatham\, 12060\, United States
CATEGORIES:Forest Kindergarten
END:VEVENT
BEGIN:VEVENT
DTSTART;TZID=America/New_York:20241017T090000
DTEND;TZID=America/New_York:20241017T150000
DTSTAMP:20260425T215502
CREATED:20240515T131957Z
LAST-MODIFIED:20240515T132311Z
UID:10002071-1729155600-1729177200@flyingdeernaturecenter.org
SUMMARY:Forest Kindergarten in East Chatham
DESCRIPTION:
URL:https://flyingdeernaturecenter.org/event/forest-kindergarten-in-east-chatham-5/2024-10-17/
LOCATION:Daley Road\, 122 Daley Rd\, East Chatham\, 12060\, United States
CATEGORIES:Forest Kindergarten
END:VEVENT
BEGIN:VEVENT
DTSTART;TZID=America/New_York:20241018T090000
DTEND;TZID=America/New_York:20241018T130000
DTSTAMP:20260425T215502
CREATED:20240515T132542Z
LAST-MODIFIED:20240515T132710Z
UID:10002099-1729242000-1729256400@flyingdeernaturecenter.org
SUMMARY:Forest Kindergarten at the Cobble
DESCRIPTION:
URL:https://flyingdeernaturecenter.org/event/forest-kindergarten-at-the-cobble/2024-10-18/
LOCATION:Bartholomew’s Cobble\, 105 Weatogue Road\, Ashley Falls\, Sheffield\, MA\, 01257\, United States
CATEGORIES:Forest Kindergarten
END:VEVENT
BEGIN:VEVENT
DTSTART;TZID=America/New_York:20241022T090000
DTEND;TZID=America/New_York:20241022T150000
DTSTAMP:20260425T215502
CREATED:20240515T131957Z
LAST-MODIFIED:20240515T132311Z
UID:10002072-1729587600-1729609200@flyingdeernaturecenter.org
SUMMARY:Forest Kindergarten in East Chatham
DESCRIPTION:
URL:https://flyingdeernaturecenter.org/event/forest-kindergarten-in-east-chatham-5/2024-10-22/
LOCATION:Daley Road\, 122 Daley Rd\, East Chatham\, 12060\, United States
CATEGORIES:Forest Kindergarten
END:VEVENT
BEGIN:VEVENT
DTSTART;TZID=America/New_York:20241023T090000
DTEND;TZID=America/New_York:20241023T150000
DTSTAMP:20260425T215502
CREATED:20240515T131957Z
LAST-MODIFIED:20240515T132311Z
UID:10002073-1729674000-1729695600@flyingdeernaturecenter.org
SUMMARY:Forest Kindergarten in East Chatham
DESCRIPTION:
URL:https://flyingdeernaturecenter.org/event/forest-kindergarten-in-east-chatham-5/2024-10-23/
LOCATION:Daley Road\, 122 Daley Rd\, East Chatham\, 12060\, United States
CATEGORIES:Forest Kindergarten
END:VEVENT
BEGIN:VEVENT
DTSTART;TZID=America/New_York:20241024T090000
DTEND;TZID=America/New_York:20241024T150000
DTSTAMP:20260425T215502
CREATED:20240515T131957Z
LAST-MODIFIED:20240515T132311Z
UID:10002074-1729760400-1729782000@flyingdeernaturecenter.org
SUMMARY:Forest Kindergarten in East Chatham
DESCRIPTION:
URL:https://flyingdeernaturecenter.org/event/forest-kindergarten-in-east-chatham-5/2024-10-24/
LOCATION:Daley Road\, 122 Daley Rd\, East Chatham\, 12060\, United States
CATEGORIES:Forest Kindergarten
END:VEVENT
BEGIN:VEVENT
DTSTART;TZID=America/New_York:20241025T090000
DTEND;TZID=America/New_York:20241025T130000
DTSTAMP:20260425T215502
CREATED:20240515T132542Z
LAST-MODIFIED:20240515T132710Z
UID:10002100-1729846800-1729861200@flyingdeernaturecenter.org
SUMMARY:Forest Kindergarten at the Cobble
DESCRIPTION:
URL:https://flyingdeernaturecenter.org/event/forest-kindergarten-at-the-cobble/2024-10-25/
LOCATION:Bartholomew’s Cobble\, 105 Weatogue Road\, Ashley Falls\, Sheffield\, MA\, 01257\, United States
CATEGORIES:Forest Kindergarten
END:VEVENT
BEGIN:VEVENT
DTSTART;TZID=America/New_York:20241029T090000
DTEND;TZID=America/New_York:20241029T150000
DTSTAMP:20260425T215502
CREATED:20240515T131957Z
LAST-MODIFIED:20240515T132311Z
UID:10002075-1730192400-1730214000@flyingdeernaturecenter.org
SUMMARY:Forest Kindergarten in East Chatham
DESCRIPTION:
URL:https://flyingdeernaturecenter.org/event/forest-kindergarten-in-east-chatham-5/2024-10-29/
LOCATION:Daley Road\, 122 Daley Rd\, East Chatham\, 12060\, United States
CATEGORIES:Forest Kindergarten
END:VEVENT
BEGIN:VEVENT
DTSTART;TZID=America/New_York:20241030T090000
DTEND;TZID=America/New_York:20241030T150000
DTSTAMP:20260425T215502
CREATED:20240515T131957Z
LAST-MODIFIED:20240515T132311Z
UID:10002076-1730278800-1730300400@flyingdeernaturecenter.org
SUMMARY:Forest Kindergarten in East Chatham
DESCRIPTION:
URL:https://flyingdeernaturecenter.org/event/forest-kindergarten-in-east-chatham-5/2024-10-30/
LOCATION:Daley Road\, 122 Daley Rd\, East Chatham\, 12060\, United States
CATEGORIES:Forest Kindergarten
END:VEVENT
BEGIN:VEVENT
DTSTART;TZID=America/New_York:20241031T090000
DTEND;TZID=America/New_York:20241031T150000
DTSTAMP:20260425T215502
CREATED:20240515T131957Z
LAST-MODIFIED:20240515T132311Z
UID:10002077-1730365200-1730386800@flyingdeernaturecenter.org
SUMMARY:Forest Kindergarten in East Chatham
DESCRIPTION:
URL:https://flyingdeernaturecenter.org/event/forest-kindergarten-in-east-chatham-5/2024-10-31/
LOCATION:Daley Road\, 122 Daley Rd\, East Chatham\, 12060\, United States
CATEGORIES:Forest Kindergarten
END:VEVENT
END:VCALENDAR